BEGIN:VCALENDAR
VERSION:2.0
PRODID:-//wp-events-plugin.com//7.2.3.1//EN
TZID:Europe/Berlin
X-WR-TIMEZONE:Europe/Berlin
BEGIN:VEVENT
UID:4067@frauenportal.koeln
DTSTART;TZID=Europe/Berlin:20230625T110000
DTEND;TZID=Europe/Berlin:20230625T130000
DTSTAMP:20230531T160303Z
URL:https://frauenportal.koeln/veranstaltungen/beginen-fruehstueck-6-2023-
 06-25/
SUMMARY:Beginen-Frühstück
DESCRIPTION:Von immer wieder anderen Beginen und Mitfrauen werden Themen vo
 n sozialer\, gesellschaftlicher\, spiritueller Bedeutung vorgeschlagen\, d
 ieses Mal: Frauenfreundschaften – was Frauen aneinander haben\n\nVeranst
 alterin: \nBeginen Köln e.V.\n\nAnsprechpartnerin:\nChristine Müthrath\,
  Tel.: 0221 / 9655820\, E-Mail: info@beginen.de\n\nKosten / Anmeldung:\nEi
 ntritt frei – Spende/Kostenbeitrag erbeten. Brot\, Butter und Getränke 
 sind vorhanden. Es wird darum gebeten\, dass jede Frau für die übrigen Z
 utaten etwas mitbringt.\nBitte melden Sie sich bis Donnerstag vor dem Frü
 hstück telefonisch (0221/9655820) oder per Mail an. Teilnahme nur nach vo
 rheriger Anmeldung möglich.
LOCATION:Beginenhof Köln\, Unter Linden 119\, 50859 Köln
GEO:50.9636513;6.8421158
X-APPLE-STRUCTURED-LOCATION;VALUE=URI;X-ADDRESS=Unter Linden 119\, Köln\, 
 50859\, Veranstaltungsort\, Deutschland;X-APPLE-RADIUS=100;X-TITLE=Beginen
 hof Köln:geo:50.9636513,6.8421158
END:VEVENT
BEGIN:VTIMEZONE
TZID:Europe/Berlin
X-LIC-LOCATION:Europe/Berlin
BEGIN:DAYLIGHT
DTSTART:20230326T030000
TZOFFSETFROM:+0100
TZOFFSETTO:+0200
TZNAME:CEST
END:DAYLIGHT
END:VTIMEZONE
END:VCALENDAR