BEGIN:VCALENDAR
VERSION:2.0
PRODID:-//wp-events-plugin.com//7.2.3.1//EN
TZID:Europe/Berlin
X-WR-TIMEZONE:Europe/Berlin
BEGIN:VEVENT
UID:5355@frauenportal.koeln
DTSTART;TZID=Europe/Berlin:20250427T110000
DTEND;TZID=Europe/Berlin:20250427T130000
DTSTAMP:20260330T144248Z
URL:https://frauenportal.koeln/veranstaltungen/beginen-fruehstueck-8-2025-
 04-27/
SUMMARY:Beginen-Frühstück
DESCRIPTION:Von immer wieder anderen Beginen und Mitfrauen werden Themen vo
 n sozialer\, gesellschaftlicher\, spiritueller Bedeutung vorgeschlagen\, d
 ieses Mal:\n\nDie Meinungsfreiheit… ein hohes Gut und ihre Grenzen\n\nVe
 ranstalterin: \nBeginen Köln e.V.\n\nAnsprechpartnerin:\nChristine Müthr
 ath\, Tel.: 0221 / 9655820\, E-Mail: info@beginen.de\n\nKosten / Anmeldung
 :\nBeitrag 5 Euro. Brot\, Butter und Kaffee sind vorhanden. Es wird darum 
 gebeten\, dass jede Frau für die übrigen Zutaten etwas mitbringt.\nBitte
  melden Sie sich bis Donnerstag vor dem Frühstück telefonisch (0221/9655
 820) oder per Mail an. Teilnahme nur nach vorheriger Anmeldung möglich.
LOCATION:Beginenhof Köln\, Unter Linden 119\, 50859 Köln
GEO:50.9636513;6.8421158
X-APPLE-STRUCTURED-LOCATION;VALUE=URI;X-ADDRESS=Unter Linden 119\, Köln\, 
 50859\, Veranstaltungsort\, Deutschland;X-APPLE-RADIUS=100;X-TITLE=Beginen
 hof Köln:geo:50.9636513,6.8421158
END:VEVENT
BEGIN:VTIMEZONE
TZID:Europe/Berlin
X-LIC-LOCATION:Europe/Berlin
BEGIN:DAYLIGHT
DTSTART:20250330T030000
TZOFFSETFROM:+0100
TZOFFSETTO:+0200
TZNAME:CEST
END:DAYLIGHT
END:VTIMEZONE
END:VCALENDAR