BEGIN:VCALENDAR
VERSION:2.0
PRODID:-//wp-events-plugin.com//7.2.3.1//EN
TZID:Europe/Berlin
X-WR-TIMEZONE:Europe/Berlin
BEGIN:VEVENT
UID:5619@frauenportal.koeln
DTSTART;TZID=Europe/Berlin:20250408T183000
DTEND;TZID=Europe/Berlin:20250408T200000
DTSTAMP:20250331T083041Z
URL:https://frauenportal.koeln/veranstaltungen/beginensalon-bestandsaufnah
 me-mit-julia-pedersen/
SUMMARY:BeginenSalon: Bestandsaufnahme mit Julia Pedersen
DESCRIPTION:Julia Pedersen\, die Kölner Gleichstellungsbeauftragte und Lei
 terin des Amtes für Gleichstellung von Frauen und Mäern\, ist seit einem
  Jahr im Amt und wird über ihre bisherige Arbeit und zukünftigen Planung
 en sprechen.\n\nEin gemeinsamer Austausch zu der Frage: "Wohin geht es mit
  der Kölner Frauenpolitik?"\n\nVeranstalterin:\nBeginenSalon/Beginen Köl
 n e.V.\n\nKontakt:\nBrigitte Schäfer\, Sprecherin BeginenSalon\, E-Mail: 
 info@beginenvilla.koeln
LOCATION:Beginenfenster Köln\, Markmannsgasse 7\, 50667 Köln
GEO:50.936778;6.961977
X-APPLE-STRUCTURED-LOCATION;VALUE=URI;X-ADDRESS=Markmannsgasse 7\, Köln\, 
 50667\, Frauenorganisation\, Deutschland;X-APPLE-RADIUS=100;X-TITLE=Begine
 nfenster Köln:geo:50.936778,6.961977
END:VEVENT
BEGIN:VTIMEZONE
TZID:Europe/Berlin
X-LIC-LOCATION:Europe/Berlin
BEGIN:DAYLIGHT
DTSTART:20250330T030000
TZOFFSETFROM:+0100
TZOFFSETTO:+0200
TZNAME:CEST
END:DAYLIGHT
END:VTIMEZONE
END:VCALENDAR