BEGIN:VCALENDAR
VERSION:2.0
PRODID:-//wp-events-plugin.com//7.2.3.1//EN
TZID:Europe/Berlin
X-WR-TIMEZONE:Europe/Berlin
BEGIN:VEVENT
UID:6170@frauenportal.koeln
DTSTART;TZID=Europe/Berlin:20260420T190000
DTEND;TZID=Europe/Berlin:20260420T210000
DTSTAMP:20260326T110854Z
URL:https://frauenportal.koeln/veranstaltungen/beginensalon-frauen-bauen/
SUMMARY:Beginensalon: FRAUEN.BAUEN
DESCRIPTION:Die feministische Gesprächsreihe „BeginenSalon“ der Begine
 nVilla Köln e.V. widmet sich seit vielen Jahren den Perspektiven von Frau
 en* in Stadtplanung\, Architektur und gemeinschaftlichen Wohnformen. An di
 esem Abend wird der Blick gerichtet auf Stadtplanung aus weiblicher Perspe
 ktive. Im Mittelpunkt stehen Fragen nach gleichberechtigter Stadtentwicklu
 ng\, Wohnungsbau und feministischen Gegenentwürfen zu bisheriger Stadtpla
 nung.\n\nDie aktuelle Wohnungskrise und städtische Entwicklungen treffen 
 Menschen sehr unterschiedlich. Frauen* sind aufgrund ungleicher Einkommens
 - und Vermögensverhältnisse besonders häufig von Ausschluss und Diskrim
 inierung auf dem Wohnungsmarkt betroffen. Zugleich entstehen in Deutschlan
 d zunehmend feministische Gegenentwürfe\, die strukturelle Ursachen sicht
 bar machen und alternative Wege aufzeigen.\n&nbsp\;\n\n 	Wie sieht eine fr
 auen*-gerechte Stadtplanung und Architektur aus?\n 	Ist Gender Planning ei
 ne unverzichtbare Grundlage für zukünftige Stadtentwicklungen?\n 	Welche
  Auswirkungen hat die aktuelle Stadtentwicklung auf Wohnungsbau und die Be
 teiligung von Frauen* in Planungsprozessen?\n 	Wie können Wohn- und Leben
 sräume gestaltet werden\, die den Bedürfnissen von Frauen* entsprechen? 
 Welche Konzepte existieren\, um traditionelle Wohnmodelle angesichts verä
 nderter Familienstrukturen neu zu denken?\n 	Welche Chancen eröffnen geme
 inschaftliche (Frauen*-)Wohnprojekte für neue Formen des Wohnens und Lebe
 ns?\n\n\nPodiumsgäste:\n\n 	Sabine Pakulat\, Diplom-Designerin und seit 2
 014 Stadträtin (GRÜNE\, www.gruenekoeln.de) mit Schwerpunkt Stadtentwick
 lung. Vorsitzende des Liegenschaftsausschusses\, Mitglied in mehreren Aufs
 ichtsräten von Wohnungsbaugesellschaften. Engagiert sich für sozialen Wo
 hnungsbau und die Förderung gemeinschaftlicher Wohnprojekte.\n 	Geske Hou
 wtrouw\, Architektin. Seit zwei Jahrzehnten Mitglied der Architektinnen In
 itiative (www.architektinnen-initiative.de)\, langjährige Geschäftsführ
 erin\, seit 2026 Vorstandsmitglied. Mitarbeit im Architekturforum plan und
  beim Design-Festival Passagen. Setzt sich für Chancengleichheit in der A
 rchitektur ein.\n\nVeranstalterin:\nBeginenSalon/Beginen Köln e.V.\n\nAns
 prechpartnerin:\nBrigitte Schäfer\, Sprecherin BeginenSalon\, E-Mail: inf
 o@beginenvilla.koeln\n\nKosten / Anmeldung:\nEintritt frei. Keine Anmeldun
 g erforderlich. Einlass: 18.30 Uhr
LOCATION:Haus der Architektur Köln\, Josef-Haubrich-Hof 2\, 50676 Köln
GEO:50.93483558;6.95059061
X-APPLE-STRUCTURED-LOCATION;VALUE=URI;X-ADDRESS=Josef-Haubrich-Hof 2\, Köl
 n\, 50676\, Veranstaltungsort\, Deutschland;X-APPLE-RADIUS=100;X-TITLE=Hau
 s der Architektur Köln:geo:50.93483558,6.95059061
END:VEVENT
BEGIN:VTIMEZONE
TZID:Europe/Berlin
X-LIC-LOCATION:Europe/Berlin
BEGIN:DAYLIGHT
DTSTART:20260329T030000
TZOFFSETFROM:+0100
TZOFFSETTO:+0200
TZNAME:CEST
END:DAYLIGHT
END:VTIMEZONE
END:VCALENDAR