BEGIN:VCALENDAR
VERSION:2.0
PRODID:-//wp-events-plugin.com//7.2.3.1//EN
TZID:Europe/Berlin
X-WR-TIMEZONE:Europe/Berlin
BEGIN:VEVENT
UID:6169@frauenportal.koeln
DTSTART;TZID=Europe/Berlin:20260403T140000
DTEND;TZID=Europe/Berlin:20260403T160000
DTSTAMP:20260326T110116Z
URL:https://frauenportal.koeln/veranstaltungen/beginensalon-speeddating-sp
 aziergang/
SUMMARY:Beginensalon: Speeddating-Spaziergang
DESCRIPTION:Zu einem anregenden\, gemütlichen Spaziergang lädt der Begine
 nSalon ein. \n\nIn der lockeren Gruppe machen Frauen* untereinander Bekann
 tschaft\, tauschen sich aus\, erneuern Freundschaften und genießen die vo
 rösterliche naturnahe Umgebung. \n\nAnschließend wird der aufgenommene K
 ontakt bei einem Cocktail/Kaffee vertieft.  \n\nVeranstalterin:\nBeginenSa
 lon/Beginen Köln e.V.\n\nAnsprechpartnerin:\nBrigitte Schäfer\, Sprecher
 in BeginenSalon\, E-Mail: info@beginenvilla.koeln\n\nKosten / Anmeldung:\n
 Eintritt frei. Um Anmeldungen wird gebeten bis 02.04.2026 unter: info@begi
 nenvilla.koeln   
LOCATION:Beginenfenster Köln\, Markmannsgasse 7\, 50667 Köln
GEO:50.936778;6.961977
X-APPLE-STRUCTURED-LOCATION;VALUE=URI;X-ADDRESS=Markmannsgasse 7\, Köln\, 
 50667\, Frauenorganisation\, Deutschland;X-APPLE-RADIUS=100;X-TITLE=Begine
 nfenster Köln:geo:50.936778,6.961977
END:VEVENT
BEGIN:VTIMEZONE
TZID:Europe/Berlin
X-LIC-LOCATION:Europe/Berlin
BEGIN:DAYLIGHT
DTSTART:20260329T030000
TZOFFSETFROM:+0100
TZOFFSETTO:+0200
TZNAME:CEST
END:DAYLIGHT
END:VTIMEZONE
END:VCALENDAR