BEGIN:VCALENDAR
VERSION:2.0
PRODID:-//wp-events-plugin.com//7.2.3.1//EN
TZID:Europe/Berlin
X-WR-TIMEZONE:Europe/Berlin
BEGIN:VEVENT
UID:4707@frauenportal.koeln
DTSTART;TZID=Europe/Berlin;VALUE=DATE:20240316
DTEND;TZID=Europe/Berlin;VALUE=DATE:20240317
DTSTAMP:20240228T131919Z
URL:https://frauenportal.koeln/veranstaltungen/beginenvilla-das-neue-miete
 rinnenprojekt-der-beginen/
SUMMARY:Start: BeginenVilla - das neue Mieterinnenprojekt der Beginen
DESCRIPTION:Samstag\, 16.3. um 14 Uhr und Sonntag\, 17.3. um 14 Uhr: Projek
 tvorstellung / Wohnprojektetag:\n\nDas zweite selbstbestimmte Beginen-Wohn
 -Haus ist in Planung. Die Initiativgruppe stellt es aus Anlasss des Wohnpr
 ojektetages vor: individuell wohnen und gemeinschafltich leben! Als Mieter
 in in einer 1-\, 2- oder 3-Zimmer-Wohnung mit Gemeinschaftsraum\, (Dach-)G
 arten\, innenstadtnah\, in naturnaher Umgebung? Interessentinnen können s
 ich bei Kaffee und Kuchen mit den Aktiven dazu austauschen.\n \nSamstag\, 
 16.3. um 17 Uhr: Das Frauen*-Kultur- und Seminarhaus\n\nAngegliedert an da
 s Frauen*-Wohnprojekt "BeginenVilla" will das von Frauen und Frauenvereine
 n getragene Kultur- und Seminarhaus Räume und Möglichkeiten für mehr Fr
 auen-Öffentlichkeit schaffen: Workshops\, Vorträge\, Konzerte\, Treffpun
 kt\, Ausstellungen\, Musikübungsräume\, Arbeitsplätze\, ... Wer mehr er
 fahren möchte\, komme gern vorbei!\n\nVeranstalterin:\nBeginen Köln e.V.
 \n\nAnsprechpartnerin:\nBrigitte Schäfer\, E-Mail: info@beginenvilla.koel
 n
LOCATION:Beginenfenster Köln\, Markmannsgasse 7\, 50667 Köln
GEO:50.936778;6.961977
X-APPLE-STRUCTURED-LOCATION;VALUE=URI;X-ADDRESS=Markmannsgasse 7\, Köln\, 
 50667\, Frauenorganisation\, Deutschland;X-APPLE-RADIUS=100;X-TITLE=Begine
 nfenster Köln:geo:50.936778,6.961977
END:VEVENT
BEGIN:VTIMEZONE
TZID:Europe/Berlin
X-LIC-LOCATION:Europe/Berlin
BEGIN:STANDARD
DTSTART:20231029T020000
TZOFFSETFROM:+0200
TZOFFSETTO:+0100
TZNAME:CET
END:STANDARD
END:VTIMEZONE
END:VCALENDAR