BEGIN:VCALENDAR
VERSION:2.0
PRODID:-//wp-events-plugin.com//7.2.3.1//EN
TZID:Europe/Berlin
X-WR-TIMEZONE:Europe/Berlin
BEGIN:VEVENT
UID:2499@frauenportal.koeln
DTSTART;TZID=Europe/Berlin:20191221T190000
DTEND;TZID=Europe/Berlin:20191221T210000
DTSTAMP:20191220T085621Z
URL:https://frauenportal.koeln/veranstaltungen/bei-den-tibeterinnen-eine-r
 eise-nach-dharamsala/
SUMMARY:Bei den TibeterInnen – eine Reise nach Dharamsala
DESCRIPTION:Nach der sukzessiven Besetzung Tibets durch China in den 1950er
 -Jahren flohen Tausende TibeterInnen über die eisigen Höhen des Himalaya
  nach Nepal\, Bhutan und Indien. Im nordindischen Dharamsala\, auf den Abh
 ängen des Himalaya in rund 2000 m Höhe\, haben heute zahlreiche religiö
 se und wissenschaftliche Einrichtungen sowie die Zentralverwaltung der Exi
 ltibeterInnen ihren Sitz. Hier befindet sich auch das Kloster des Dalai La
 ma.\n\nIn den westlichen Medien ist es um die Tibet-Frage stiller geworden
 . Wie geht es den TibeterInnen im Exil heute\, wie schätzen sie ihre Situ
 ation ein? Wie haben sie sich eingerichtet und organisiert\, wie pflegen s
 ie ihre Kultur und Sprache? Davon handelt dieser Reisebericht (mit Bildern
 ).\n\nReferentin: \nGabriele Gassen\n\nVeranstalterin:\nBeginen Köln e.V.
 \n\nAnsprechpartnerin:\nChristine Müthrath\, Tel.: 0221 / 9655820\, E-Mai
 l: info@beginen.de\n\nKosten:\nKostenbeitrag: 8\,- € / 5\,- €\n(Ermä
 ßigte Beiträge gelten für Vereinsfrauen und Kölnpass-InhaberInnen)\n\n
 Veranstaltungsort:\nBeginentreff im Beginenhof Köln\, Unter Linden 119\, 
 50859 Köln\, [map id=1048]
END:VEVENT
BEGIN:VTIMEZONE
TZID:Europe/Berlin
X-LIC-LOCATION:Europe/Berlin
BEGIN:STANDARD
DTSTART:20191027T020000
TZOFFSETFROM:+0200
TZOFFSETTO:+0100
TZNAME:CET
END:STANDARD
END:VTIMEZONE
END:VCALENDAR