BEGIN:VCALENDAR
VERSION:2.0
PRODID:-//wp-events-plugin.com//7.2.3.1//EN
TZID:Europe/Berlin
X-WR-TIMEZONE:Europe/Berlin
BEGIN:VEVENT
UID:3948@frauenportal.koeln
DTSTART;TZID=Europe/Berlin:20221126T200000
DTEND;TZID=Europe/Berlin:20221126T235900
DTSTAMP:20241115T121837Z
URL:https://frauenportal.koeln/veranstaltungen/benefiz-frauenparty/
SUMMARY:Benefiz-Frauen*Party
DESCRIPTION:Im Rahmen des Tags gegen Gewalt an Frauen* und Mädchen* (25.11
 .) findet in diesem Jahr wieder eine Party zugunsten der Autonomen Frauenh
 äuser in Köln statt.\n\nDie Party ist offen für alle FLINTA (Frauen\, L
 esben\, Inter\, Nichtbinäre\, Trans und Agender).\nZu erwarten ist eine b
 unte\, feministische\, solidarische Party!\n\n20 Uhr\n"Infos aus den Köln
 er Frauenhäusern"\n\n21 Uhr\nParty mit zwei Kölner DJanes!\n\nHier ist d
 ie Einladung: Benefiz-Party_Frauenhaeuser_2022 (pdf-Datei\, 866 KB)\n\nVer
 anstalterin:\nAutonome Frauenhäuser Köln\, Frauen helfen Frauen e.V.\n\n
 Ansprechpartnerin:\nTel.: 0221 / 51 55 12\, E-Mail: verwaltung@frauenhelfe
 nfrauen-koeln.de\n\nKosten / Anmeldung:\nDer Erlös aus Einlass und Verzeh
 r-Spenden geht als Spende an Frauen helfen Frauen e.V. Köln\, als Träger
  der zwei Autonomen Frauenhäuser.\n\nVeranstaltungsort:\nBürgerzentrum B
 ÜZE Ehrenfeld\, Venloer Str. 429\, 50825 Köln\, [map id=1100]
END:VEVENT
BEGIN:VTIMEZONE
TZID:Europe/Berlin
X-LIC-LOCATION:Europe/Berlin
BEGIN:STANDARD
DTSTART:20221030T020000
TZOFFSETFROM:+0200
TZOFFSETTO:+0100
TZNAME:CET
END:STANDARD
END:VTIMEZONE
END:VCALENDAR