BEGIN:VCALENDAR
VERSION:2.0
PRODID:-//wp-events-plugin.com//7.2.3.1//EN
TZID:Europe/Berlin
X-WR-TIMEZONE:Europe/Berlin
BEGIN:VEVENT
UID:3521@frauenportal.koeln
DTSTART;TZID=Europe/Berlin:20211211T200000
DTEND;TZID=Europe/Berlin:20211211T220000
DTSTAMP:20211130T083318Z
URL:https://frauenportal.koeln/veranstaltungen/benefiz-kabarett-fuer-die-a
 utonomen-frauenhaeuer-koeln-4/
SUMMARY:Benefiz-Kabarett für die Autonomen Frauenhäuer Köln
DESCRIPTION:- Anny Hartmann: "Schwamm drüber? - Der besondere Jahresrückb
 lick 2021" -\n\nwww.annyhartmann.de\n\nPressestimmen:\n"Anny Hartmann hat 
 verstanden\, dass man\, um Unterhaltung zu machen\, nicht nur Humor brauch
 t\, sondern vor allem eine Haltung. Außerdem besitzt sie als Diplomvolksw
 irtin auch noch Hirn. Sie vereint in Ihrer Person also die drei großen H 
 des Kabaretts: Haltung\, Humor\, Hirn. Das sollten Sie sich angucken."\nVo
 lker Pispers\n\n„Anny Hartmann erklärt\, ohne zu belehren\, und sie bel
 ehrt\, ohne zu langweilen. Man sieht Zusammenhänge\, die man vorher nicht
  gesehen hat\, und wenn man Sie vorher gesehen hat\, nicht erkannt hat.\nW
 ir danken den ehemaligen Arbeitskollegen von Anny Hartmann\, die möglich 
 gemacht haben\, dass sie irgendwann den Job geschmissen hat und Kabarettis
 tin geworden ist.“\nBegründung der Jury bei Verleihung des Haltener Kie
 p 2016\n\nVeranstalterin:\nBürgerhaus Stollwerck\, www.buergerhaus-stoll
 werck.de\n\nZu Gunsten von:\nFrauen helfen Frauen e.V. - Autonome Frauenh
 äuser Köln\n\nAnsprechpartnerin:\nClaudia Schrimpf\, Tel.: 0221 / 51 55 
 12\, E-Mail: verwaltung@frauenhelfenfrauen-koeln.de\n\nKosten / Anmeldung
 :\nTickets kosten 5\,– (zzgl. VVK-Gebühren) + 20\,– Spende beim Einla
 ss\n\nVeranstaltungsort:\nBürgerhaus Stollwerck\, großen Saal im 1. Stoc
 k\, Dreikönigenstr. 23\, 50678 Köln\, [map id=907]
END:VEVENT
BEGIN:VTIMEZONE
TZID:Europe/Berlin
X-LIC-LOCATION:Europe/Berlin
BEGIN:STANDARD
DTSTART:20211031T020000
TZOFFSETFROM:+0200
TZOFFSETTO:+0100
TZNAME:CET
END:STANDARD
END:VTIMEZONE
END:VCALENDAR