BEGIN:VCALENDAR
VERSION:2.0
PRODID:-//wp-events-plugin.com//7.2.3.1//EN
TZID:Europe/Berlin
X-WR-TIMEZONE:Europe/Berlin
BEGIN:VEVENT
UID:4674@frauenportal.koeln
DTSTART;TZID=Europe/Berlin:20240308T193000
DTEND;TZID=Europe/Berlin:20240308T223000
DTSTAMP:20240115T131947Z
URL:https://frauenportal.koeln/veranstaltungen/benefiz-ladies-crime-night-
 in-koeln-2/
SUMMARY:Benefiz-Ladies Crime Night in Köln
DESCRIPTION:Es lesen Myriane Angelowski\, Nadine Buranaseda\, Charlotte Cha
 ronne\, Edith Niedieck\, Anja Puhane\, Regina Schleheck\, Dagmar Maria Tos
 chka und Jutta Wilbertz. Durch das Programm führt Gabriele Hammelrath\, M
 itglied des WDR-Rundfunkrats.\n\nEs verspricht wieder ein wunderbarer Aben
 d zu werden - aufregend\, spannend\, witzig\, charmant\, toll!\n\nVeransta
 lter:\nKrimi & Kölsch | Egbert Kapischke\nzu Gunsten von: Lobby für Mäd
 chen e.V. \nmit: Mörderische Schwestern e.V.\, www.moerderische-schwester
 n.eu\n\nAnsprechpartnerin:\nFrauke Mahr \, Tel.: 0221 / 45 35 56 51\, E-Ma
 il: frauke-mahr@lobby-fuer-maedchen.de\n\nKosten / Anmeldung:\nEinlass: 19
  Uhr.\n10 Euro im Vorverkauf zzgl.  1\,50 € Vorverkaufsgebühr.\nVorverk
 auf über www.qultor.de/veranstaltungen/ladies-crime-night-in-koeln\nDie E
 intrittsgelder gehen komplett an LOBBY FÜR MÄDCHEN e.V. 
LOCATION:Epiphaniaskirche\, Erlenweg 39\, 50827 Köln
GEO:50.965965;6.89328
X-APPLE-STRUCTURED-LOCATION;VALUE=URI;X-ADDRESS=Erlenweg 39\, Köln\, Nordr
 hein-Westfalen\, 50827\, Veranstaltungsort\, Deutschland;X-APPLE-RADIUS=10
 0;X-TITLE=Epiphaniaskirche:geo:50.965965,6.89328
END:VEVENT
BEGIN:VTIMEZONE
TZID:Europe/Berlin
X-LIC-LOCATION:Europe/Berlin
BEGIN:STANDARD
DTSTART:20231029T020000
TZOFFSETFROM:+0200
TZOFFSETTO:+0100
TZNAME:CET
END:STANDARD
END:VTIMEZONE
END:VCALENDAR