BEGIN:VCALENDAR
VERSION:2.0
PRODID:-//wp-events-plugin.com//7.2.3.1//EN
TZID:Europe/Berlin
X-WR-TIMEZONE:Europe/Berlin
BEGIN:VEVENT
UID:2411@frauenportal.koeln
DTSTART;TZID=Europe/Berlin:20191117T193000
DTEND;TZID=Europe/Berlin:20191117T210000
DTSTAMP:20191030T173714Z
URL:https://frauenportal.koeln/veranstaltungen/benefiz-ladies-crime-night-
 in-koeln/
SUMMARY:Benefiz-Ladies Crime Night in Köln
DESCRIPTION:Von bitter bis süß gehen Isolde Ahr\, Myriane Angelowski\, Ch
 ristiane Dieckerhoff\, Ulrike Dömkes\, Renate Naber\, Regina Schleheck\, 
 Martina E. Siems-Dahle und Jutta Wilbertz über Leichen – in ihren Krimi
 s und auf der Bühne! Ihre Texte sind humorvoll\, blutig\, dramatisch und 
 fesselnd und werden von Jutta Wilbertz mit mörderischen Songs an der Ukul
 ele umrahmt.  \n\nMit Blick auf Dom und Rhein verspricht die Ladies Crime 
 Night mit vielseitigen Kriminalgeschichten feinste Unterhaltung und Spannu
 ng bis zum Schuss – denn beim Schuss ist Schluss. Finden Sie heraus\, wa
 s es damit auf sich hat und ob wirklich scharf geschossen wird an diesem A
 bend.\n\nVeranstalterinnen:\nLobby für Mädchen e.V. und Mörderische Sch
 western e.V.\, www.moerderische-schwestern.eu\n\nAnsprechpartnerin:\nFrauk
 e Mahr \, Tel.: 0221 / 45 35 56 51\, E-Mail: frauke-mahr@lobby-fuer-maedch
 en.de\n\nKosten / Anmeldung:\n12 Euro an der Abendkasse\, 10 Euro im Vorve
 rkauf\nVorverkauf über LOBBY FÜR MÄDCHEN  Tel. 0221/ 45 35 56 50 und in
 fo@lobby-fuer-maedchen.de\nDie Eintrittsgelder gehen komplett an LOBBY FÜ
 R MÄDCHEN e.V. \n\nVeranstaltungsort:\nSchokoladenmuseum Köln\, Am Schok
 oladenmuseum 1A\, 50678 Köln\, [map id=1127]\n
END:VEVENT
BEGIN:VTIMEZONE
TZID:Europe/Berlin
X-LIC-LOCATION:Europe/Berlin
BEGIN:STANDARD
DTSTART:20191027T020000
TZOFFSETFROM:+0200
TZOFFSETTO:+0100
TZNAME:CET
END:STANDARD
END:VTIMEZONE
END:VCALENDAR