BEGIN:VCALENDAR
VERSION:2.0
PRODID:-//wp-events-plugin.com//7.2.3.1//EN
TZID:Europe/Berlin
X-WR-TIMEZONE:Europe/Berlin
BEGIN:VEVENT
UID:3753@frauenportal.koeln
DTSTART;TZID=Europe/Berlin:20220501T130000
DTEND;TZID=Europe/Berlin:20220501T180000
DTSTAMP:20220430T085749Z
URL:https://frauenportal.koeln/veranstaltungen/benefiz-troedelmarkt-im-beg
 inenfenster/
SUMMARY:Benefiz-Trödelmarkt im Beginenfenster
DESCRIPTION:Nützliche und weniger nützliche\, alte\, rare und kuriose Din
 ge werden zugunsten der Ukraine-Hilfe an diesem Tag im Beginenfenster feil
 geboten.\n\nVeranstalterin:\nBeginen Köln e.V.\n\nAnsprechpartnerinnen:\n
 Christine Müthrath\, Tel.: 0221 / 9655820\, E-Mail: info@beginen.de\n\nVe
 ranstaltungsort:\nBeginenfenster\, Markmannsgasse 7\, 50667 Köln\, [map i
 d=891]
END:VEVENT
BEGIN:VTIMEZONE
TZID:Europe/Berlin
X-LIC-LOCATION:Europe/Berlin
BEGIN:DAYLIGHT
DTSTART:20220327T030000
TZOFFSETFROM:+0100
TZOFFSETTO:+0200
TZNAME:CEST
END:DAYLIGHT
END:VTIMEZONE
END:VCALENDAR