BEGIN:VCALENDAR
VERSION:2.0
PRODID:-//wp-events-plugin.com//7.2.3.1//EN
TZID:Europe/Berlin
X-WR-TIMEZONE:Europe/Berlin
BEGIN:VEVENT
UID:2451@frauenportal.koeln
DTSTART;TZID=Europe/Berlin:20191104T200000
DTEND;TZID=Europe/Berlin:20191104T230000
DTSTAMP:20191104T113200Z
URL:https://frauenportal.koeln/veranstaltungen/benefizkonzert-fuer-den-fmc
 k/
SUMMARY:Benefizkonzert für den FMCK
DESCRIPTION:Aus der Ankündigung:\n"Wir freuen uns so sehr\, dass eine unse
 re Lieblingsbands\, nämlich Titanic\, für uns ein Benefizkonzert organis
 ieren –  mit  Titanic and friends. Anschließend Musik / Party." \n\nVer
 anstalterin:\nFrauenmusikclub Köln e.V.\n\nKontakt:\nTel.: 0221 / 5 10 23
  28\, E-Mail: info@fmck.de\n\nKosten / Anmeldung:\nDer Eintritt ist frei\;
  um (großzügige) Spenden wird gebeten.\n\nVeranstaltungsort:\nMongogo Ba
 r\, Severinswall 39\, 50678 Köln\, [map id=15151]
END:VEVENT
BEGIN:VTIMEZONE
TZID:Europe/Berlin
X-LIC-LOCATION:Europe/Berlin
BEGIN:STANDARD
DTSTART:20191027T020000
TZOFFSETFROM:+0200
TZOFFSETTO:+0100
TZNAME:CET
END:STANDARD
END:VTIMEZONE
END:VCALENDAR