BEGIN:VCALENDAR
VERSION:2.0
PRODID:-//wp-events-plugin.com//7.2.3.1//EN
TZID:Europe/Berlin
X-WR-TIMEZONE:Europe/Berlin
BEGIN:VEVENT
UID:4410@frauenportal.koeln
DTSTART;TZID=Europe/Berlin:20231019T190000
DTEND;TZID=Europe/Berlin:20231019T210000
DTSTAMP:20230922T130903Z
URL:https://frauenportal.koeln/veranstaltungen/benefizveranstaltung-ladies
 -lachen-lauter-2-ausgabe/
SUMMARY:Benefizveranstaltung: Ladies Lachen Lauter: 2. Ausgabe
DESCRIPTION:Unter dem Titel „Ladies Lachen Lauter!“ richtet seiSTARK e.
 V. nun zum zweiten Mal einen Stand-up Comedy-Abend von Frauen für Frauen 
 aus. Sieben junge und dynamische Comediennes sorgen für einen entspannten
  Abend mit gutem Humor und positiv geladener Atmosphäre. Mit dabei sind d
 iesmal Christiane Olivier\, Nadine Sönert\, Ayan Ali\, Nora Yog\,  Maria 
 Clara Groppler\,  Viki Kubitza und  Annika Lara.\nIris Zeytindali führt a
 ls Moderatorin wieder durch den Abend.\n\nVeranstalterin:\nseiSTARK e.V.\,
  www.seistark-ev.de\n\nAnsprechpartnerin:\nMaggy Fichtner\, Tel.: 0221 / 5
 6 96 56 50\, E-Mail: mfichtner@seistark-ev.de\n\nKosten / Anmeldung:\nEinl
 ass ab 18.30 Uhr\, Abendkasse: Pay what you want ab 10 €
LOCATION:Goldfinger Club\, Friesenstr. 54\, 50670 Köln
GEO:50.940797;6.94219
X-APPLE-STRUCTURED-LOCATION;VALUE=URI;X-ADDRESS=Friesenstr. 54\, Köln\, No
 rdrhein-Westfalen\, 50670\, Veranstaltungsort\, Deutschland;X-APPLE-RADIUS
 =100;X-TITLE=Goldfinger Club:geo:50.940797,6.94219
END:VEVENT
BEGIN:VTIMEZONE
TZID:Europe/Berlin
X-LIC-LOCATION:Europe/Berlin
BEGIN:DAYLIGHT
DTSTART:20230326T030000
TZOFFSETFROM:+0100
TZOFFSETTO:+0200
TZNAME:CEST
END:DAYLIGHT
END:VTIMEZONE
END:VCALENDAR