BEGIN:VCALENDAR
VERSION:2.0
PRODID:-//wp-events-plugin.com//7.2.3.1//EN
TZID:Europe/Berlin
X-WR-TIMEZONE:Europe/Berlin
BEGIN:VEVENT
UID:4409@frauenportal.koeln
DTSTART;TZID=Europe/Berlin:20230803T190000
DTEND;TZID=Europe/Berlin:20230803T210000
DTSTAMP:20230922T130833Z
URL:https://frauenportal.koeln/veranstaltungen/benefizveranstaltung-ladies
 -lachen-lauter/
SUMMARY:Benefizveranstaltung: Ladies Lachen Lauter!
DESCRIPTION:– Stand-up Comedy-Abend von Frauen für Frauen –\n\nEin Lin
 e-up junger und dynamischer Comediennes spendet Zeit und Talent für den g
 uten Zweck und einen entspannten Abend mit gutem Humor und positiv geladen
 er Atmosphäre.\n\nMit von der Partie: Katharina Block\, Nele Mathew\, Nad
 ine Sönert\, Bea Herzog\, Melina Göb\, Christiane Olivier und Christin J
 ugsch. Iris Zeytindali führt als Moderatorin durch den Abend.\n\nVeransta
 lterin:\nseiSTARK e.V.\, www.seistark-ev.de\n\nAnsprechpartnerin:\nMaggy F
 ichtner\, Tel.: 0221 / 56 96 56 50\, E-Mail: mfichtner@seistark-ev.de\n\nK
 osten / Anmeldung:\nAbendkasse: Pay what you want ab 10 €
LOCATION:Goldfinger Club\, Friesenstr. 54\, 50670 Köln
GEO:50.940797;6.94219
X-APPLE-STRUCTURED-LOCATION;VALUE=URI;X-ADDRESS=Friesenstr. 54\, Köln\, No
 rdrhein-Westfalen\, 50670\, Veranstaltungsort\, Deutschland;X-APPLE-RADIUS
 =100;X-TITLE=Goldfinger Club:geo:50.940797,6.94219
END:VEVENT
BEGIN:VTIMEZONE
TZID:Europe/Berlin
X-LIC-LOCATION:Europe/Berlin
BEGIN:DAYLIGHT
DTSTART:20230326T030000
TZOFFSETFROM:+0100
TZOFFSETTO:+0200
TZNAME:CEST
END:DAYLIGHT
END:VTIMEZONE
END:VCALENDAR