BEGIN:VCALENDAR
VERSION:2.0
PRODID:-//wp-events-plugin.com//7.2.3.1//EN
TZID:Europe/Berlin
X-WR-TIMEZONE:Europe/Berlin
BEGIN:VEVENT
UID:1849@frauenportal.koeln
DTSTART;TZID=Europe/Berlin:20190504T090000
DTEND;TZID=Europe/Berlin:20190504T173000
DTSTAMP:20190325T115547Z
URL:https://frauenportal.koeln/veranstaltungen/bibliolog-weil-jede-etwas-z
 u-sagen-hat/
SUMMARY:Bibliolog - Weil jede etwas zu sagen hat
DESCRIPTION:Diese Bibliolog-Tagung ist als Schnuppertag gedacht\, der Einbl
 ick gegeben soll in die Methode des Bibliologs und der Vielfalt aller Meth
 oden.\n\nEin Bibliolog bietet einen ganz konkreten Zugang zu einem biblisc
 hen Text und verbindet ihn mit dem eigenen Leben und Erleben.\n\nDas wird 
 auch ganz praktisch geschehen - gemeinsam treten die Teilnehmerinnen in bi
 blische Geschichten ein und erfüllen mit ihren eigenen Worten und Gedanke
 n die Bibel neu mit Leben.\n\nBedenken wie "Ich bin zu wenig wortgewandt" 
 oder "Ich weiß nicht genug über die Bibel" können getrost beiseite gesc
 hoben werden. Denn jede hat etwas zu sagen!\n\nEs begleiten Sie: Lydia Wal
 lraf-Klünter\, Diözesanvorsitzende\, und Ursula Sänger-Strüder\, gesch
 äftsführende Diözesanreferentin.\n\nHier ist die Einladung: bibliolog_0
 4.05.2019 (pdf-Datei\, 2 MB)\n\nVeranstalterin:\nKatholische Frauengemeins
 chaft Deutschlands (kfd) Diözesanverband Köln e.V.\n\nAnsprechpartnerin:
 \nFranziska Osten\, Tel.: 0221 / 1642-1385\, E-Mail: info@kfd-koeln.de\n\n
 Kosten / Anmeldung:\nTeilnahmebeitrag: 33 Euro / für kfd-Mitglieder 25 Eu
 ro.\nUm Anmeldung wird gebeten!\n\nVeranstaltungsort:\nMaternushaus\, Kard
 inal-Frings-Str. 1\, 50668 Köln\, [map id=970]
END:VEVENT
BEGIN:VTIMEZONE
TZID:Europe/Berlin
X-LIC-LOCATION:Europe/Berlin
BEGIN:DAYLIGHT
DTSTART:20190331T030000
TZOFFSETFROM:+0100
TZOFFSETTO:+0200
TZNAME:CEST
END:DAYLIGHT
END:VTIMEZONE
END:VCALENDAR