BEGIN:VCALENDAR
VERSION:2.0
PRODID:-//wp-events-plugin.com//7.2.3.1//EN
TZID:Europe/Berlin
X-WR-TIMEZONE:Europe/Berlin
BEGIN:VEVENT
UID:5200@frauenportal.koeln
DTSTART;TZID=Europe/Berlin:20241012T110000
DTEND;TZID=Europe/Berlin:20241012T163000
DTSTAMP:20240926T094202Z
URL:https://frauenportal.koeln/veranstaltungen/biblische-und-historische-f
 rauenportraits-im-juedischen-feminismus/
SUMMARY:Biblische und historische Frauenportraits im jüdischen Feminismus
DESCRIPTION:“Eure Töchter werden Prophetinnen sein” (Joel 3\,1)\n\nJü
 dische Geschichtsforschung nimmt seit Ende des 20. Jh. die soziale Konstru
 ktion von Geschlecht in der Traditionsliteratur in den Blick. Seit biblisc
 her Zeit haben jüdische Frauen darauf bestanden\, gerecht und gleichberec
 htigt in ihrer Gesellschaft behandelt zu werden. Die hebräische Bibel bie
 tet Frauen eine Reihe von Identifikationsfiguren\, wie die vier Stammüter
 \, die Richterin Debora und die Retterin Judith. Jüdische feministische T
 heologie plädiert für eine zeitgemäße Auslegung von Bibel und Traditio
 n in der Frauenforschung. Judith Plaskow\, Bertha Pappenheim\, Jeanette Wo
 lff und Elisa Klapheck porträtieren einige historische Frauen.\n\nMusikal
 ische Umrahmung: Sephardic songs CD (Lucette van den Berg)\n\nReferentin:\
 nDr. Hortense Reintjens-Anwari\, Profil:\nDr. phil. Dipl. theol.\, Studium
  der Geschichte und Kulturanthropologie (Fokus: Vorderer und Mittlerer Ori
 ent) und Theologie (Fokus: Philosophische Anthropologie). Langjährige Leh
 rtätigkeit an der Universität zu Köln. Zur Zeit Forschung und Seminare 
 auf dem Gebiet der interkulturellen Philosophie und Spiritualität.\n\nVer
 anstalterin:\nBeginen Köln e.V.\n\nAnsprechpartnerin:\nChristine Müthrat
 h\, Tel.: 0221 / 9655820\, E-Mail: info@beginen.de\n\nKosten:\nAnmeldung e
 rforderlich. Kostenbeitrag auf Spendenbasis.
LOCATION:Beginenhof Köln\, Unter Linden 119\, 50859 Köln
GEO:50.9636513;6.8421158
X-APPLE-STRUCTURED-LOCATION;VALUE=URI;X-ADDRESS=Unter Linden 119\, Köln\, 
 50859\, Veranstaltungsort\, Deutschland;X-APPLE-RADIUS=100;X-TITLE=Beginen
 hof Köln:geo:50.9636513,6.8421158
END:VEVENT
BEGIN:VTIMEZONE
TZID:Europe/Berlin
X-LIC-LOCATION:Europe/Berlin
BEGIN:DAYLIGHT
DTSTART:20240331T030000
TZOFFSETFROM:+0100
TZOFFSETTO:+0200
TZNAME:CEST
END:DAYLIGHT
END:VTIMEZONE
END:VCALENDAR