BEGIN:VCALENDAR
VERSION:2.0
PRODID:-//wp-events-plugin.com//7.2.3.1//EN
TZID:Europe/Berlin
X-WR-TIMEZONE:Europe/Berlin
BEGIN:VEVENT
UID:3433@frauenportal.koeln
DTSTART;TZID=Europe/Berlin:20211124T193000
DTEND;TZID=Europe/Berlin:20211124T220000
DTSTAMP:20220128T140546Z
URL:https://frauenportal.koeln/veranstaltungen/bindung-braucht-begegnung/
SUMMARY:Bindung braucht Begegnung!
DESCRIPTION:Bei Begegnungen in Präsenz wird im Gehirn der Botenstoff Oxyto
 cin\, das sog. "Bindungshormon" ausgeschüttet. Forschungen in der Neurops
 ychologie haben gezeigt\, dass dieser Botenstoff Stress und Angst reduzier
 t und für ein Gefühl des Gut-Aufgehobenseins sorgt. Das wollen die Köln
 er B.F.B.M.s endlich wieder erleben! Deshalb treffen sie sich live am 24. 
 November zum Jahresausklang. Es gibt ein leckeres kleines Tapas-Buffet\, W
 ein und eine moderierte Gesprächsrunde zu den Fragen: Wie haben wir die K
 rise bewältigt? Und was inspiriert uns für 2022?\n\nReferentinnen:\nTiti
 a Lenzhölzer-Maas\nAstrid Windfuhr – Kommunikations- und Stilberatung\n
 \nVeranstalterin:\nBundesverband der Frau in Business und Management e.V.\
 n\nAnsprechpartnerin:\nAstrid Windfuhr\, Tel.: 0221 / 732 63 53\n\nKosten 
 / Anmeldung:\nKostenbeitrag für Gäste: 17 Euro. Um Anmeldung wird gebete
 n.\nAuch Gastfrauen sind zu diesem Event herzlich eingeladen!\nAchtung: F
 ür die Veranstaltung gilt die 3G-Regel.\n\nVeranstaltungsort:\nLohmarer I
 nstitut für Weiterbildung e.V.\, Seminarraum in Köln\, Hansaring 4\, 506
 70 Köln\, [map id=17008]
END:VEVENT
BEGIN:VTIMEZONE
TZID:Europe/Berlin
X-LIC-LOCATION:Europe/Berlin
BEGIN:STANDARD
DTSTART:20211031T020000
TZOFFSETFROM:+0200
TZOFFSETTO:+0100
TZNAME:CET
END:STANDARD
END:VTIMEZONE
END:VCALENDAR