BEGIN:VCALENDAR
VERSION:2.0
PRODID:-//wp-events-plugin.com//7.2.3.1//EN
TZID:Europe/Berlin
X-WR-TIMEZONE:Europe/Berlin
BEGIN:VEVENT
UID:3271@frauenportal.koeln
DTSTART;TZID=Europe/Berlin:20210609T180000
DTEND;TZID=Europe/Berlin:20210609T193000
DTSTAMP:20210607T064232Z
URL:https://frauenportal.koeln/veranstaltungen/black-lives-matter-widersta
 nd-post-kolonial/
SUMMARY:„# Black lives matter!“ Widerstand Post/Kolonial
DESCRIPTION:- Digitaler Rundgang durch das Rautenstrauch-Joest-Museum -\n\n
 Mit Resist! hat das Team der neuen Direktorin des RJM\, Nanette Snoep\, ei
 ne neuartige experimentelle und partizipative Sonderausstellung zu einem w
 ichtigen aber kaum in Ausstellungen gezeigten Thema gemacht: Dem über 500
  Jahre währenden Widerstand gegen Kolonialismus und Postkolonialismus in 
 seinen vielfältigen Formen. Vier autonome Räume innerhalb der Ausstellun
 g\, die sogenannten „It’s Yours" Räume\, wurden von externen Kuratori
 nnen gestaltet\, Aktivistinnen und Künstlerinnen.\n\nWerke von zahlreiche
 n KünstlerInnen aus dem globalen Süden zu den vielen Formen von Widersta
 nd und Resilienz treten in Dialog mit Objekten aus der Sammlung des RJM. D
 abei wird auch die koloniale Rolle der ethnologischen Museen beleuchtet. I
 m Fokus stehen hier vor allem die Sammlung der sogenannten „Benin-Bronze
 n“ und die aktuelle Diskussion um ihre Restitution.\n\nDie Ausstellung i
 st bewusst labyrinthisch\, laut\, in ständigem Wandel. In diesem Online F
 ormat werden Wege aufgezeigt\, es soll aber auch zu in einem offenen Austa
 usch kommen über die Bedeutung von Widerstand und die Folgen von Kolonial
 ismus und Rassismus für Frauen damals und heute.\n\nVeranstalterin:\nKöl
 ner Frauengeschichtsverein e.V.\n\nKontakt:\nTel.: 0221 / 24 82 65\, E-Mai
 l: info@frauengeschichtsverein.de\n\nKosten / Anmeldung:\nKostenbeitrag: 1
 2 Euro\n\nVeranstaltungsort:\nonline\n\n\n\nWeiterer Termin: Samstarg\, 26
 . Juni 2021\, 16.00 Uhr\n\n
END:VEVENT
BEGIN:VTIMEZONE
TZID:Europe/Berlin
X-LIC-LOCATION:Europe/Berlin
BEGIN:DAYLIGHT
DTSTART:20210328T030000
TZOFFSETFROM:+0100
TZOFFSETTO:+0200
TZNAME:CEST
END:DAYLIGHT
END:VTIMEZONE
END:VCALENDAR