BEGIN:VCALENDAR
VERSION:2.0
PRODID:-//wp-events-plugin.com//7.2.3.1//EN
TZID:Europe/Berlin
X-WR-TIMEZONE:Europe/Berlin
BEGIN:VEVENT
UID:5705@frauenportal.koeln
DTSTART;TZID=Europe/Berlin:20250727T140000
DTEND;TZID=Europe/Berlin:20250727T160000
DTSTAMP:20250627T135834Z
URL:https://frauenportal.koeln/veranstaltungen/body-manoeuvre-skulpturenpa
 rk-2/
SUMMARY:„body manœuvre “ – Skulpturenpark
DESCRIPTION:– Ausstellung # 11 im Skulpturenpark –\n\nDer Skulpturenpar
 k zeigt seit über 25 Jahren Outdoor-Kunst hervorragender zeitgenössische
 r Künstler*innen. Die Führung konzentriert sich auf die Arbeiten von Olg
 a Balema\, Marte Eknæs\, Judith Hopf\, Paulina Olowska\, Georgia Sagri un
 d Frances Scholz. Ihre Werke reﬂektieren Transformationen innerhalb kult
 ureller Narrative\, insbesondere wie Prozesse der Geschichte das individue
 lle Erinnern und das kollektive Gedächtnis prägen.\n\nVeranstalterin:\nK
 ölner Frauengeschichtsverein e.V.\n\nKontakt:\nTel.: 0221 / 24 82 65\, E-
 Mail: info@frauengeschichtsverein.de\n\nKosten / Anmeldung:\nKostenbeitra
 g 12 Euro\n\nTreffpunkt:\nEingang Skulpturenpark an der Riehler Straße
LOCATION:Skulpturenpark Köln\, Riehler Str. (Haupteingang)\, 50668 Köln
GEO:50.956271;6.97045
X-APPLE-STRUCTURED-LOCATION;VALUE=URI;X-ADDRESS=Riehler Str. (Haupteingang)
 \, Köln\, 50668\, Veranstaltungsort\, Deutschland;X-APPLE-RADIUS=100;X-TI
 TLE=Skulpturenpark Köln:geo:50.956271,6.97045
END:VEVENT
BEGIN:VTIMEZONE
TZID:Europe/Berlin
X-LIC-LOCATION:Europe/Berlin
BEGIN:DAYLIGHT
DTSTART:20250330T030000
TZOFFSETFROM:+0100
TZOFFSETTO:+0200
TZNAME:CEST
END:DAYLIGHT
END:VTIMEZONE
END:VCALENDAR