BEGIN:VCALENDAR
VERSION:2.0
PRODID:-//wp-events-plugin.com//7.2.3.1//EN
TZID:Europe/Berlin
X-WR-TIMEZONE:Europe/Berlin
BEGIN:VEVENT
UID:242@frauenportal.koeln
DTSTART;TZID=Europe/Berlin:20170314T183000
DTEND;TZID=Europe/Berlin:20170314T213000
DTSTAMP:20170529T051605Z
URL:https://frauenportal.koeln/veranstaltungen/bpw-clubabend-frauenreden-m
 aennersprechen-wie-kommunizieren-wir-miteinander-14-maerz-2017-dienstag/
SUMMARY:BPW-Clubabend: Frauenreden\, Männersprechen - Wie kommunizieren wi
 r miteinander? 
DESCRIPTION:\n          \n\n  Kommunizieren Frauen anders als Männer? Hör
 en sie wirklich besser zu? Und wollen sie immer über alles reden\, währe
 nd Männer nach Lösungen suchen? Jede/r kennt die Klischees zum Kommunika
 tionsverhalten von Frauen und Männern. An diesem Abend sollen einige davo
 n beleuchtet und in Gespräch und Selbstversuch herausgefunden werden\, wa
 s dran ist. Eigene Erfahrungen und Humor sind ausdrücklich erwünscht. Di
 e Referentin Maria Fahnemann arbeitet unter anderem mit Führungskräften 
 und deren Teams und hat dabei so einige Unterschiede zwischen den Geschlec
 htern entdeckt.Referentin:Maria Fahnemann\,  www.fahnemann.deVeranstalteri
 n:BPW Germany Club KölnAnsprechpartnerin:Georgia Hüls\, Tel.: 0221 / 340
 1402\, E-Mail: eval(decodeURIComponent('%76%61%72%20%73%3D%27%70%62%2D%77%
 6F%6B%6C%65%40%6E%65%77%2E%62%65%64%27%3B%76%61%72%20%72%3D%27%27%3B%66%6F
 %72%28%76%61%72%20%69%3D%30%3B%69%3C%73%2E%6C%65%6E%67%74%68%3B%69%2B%2B%2
 C%69%2B%2B%29%7B%72%3D%72%2B%73%2E%73%75%62%73%74%72%69%6E%67%28%69%2B%31%
 2C%69%2B%32%29%2B%73%2E%73%75%62%73%74%72%69%6E%67%28%69%2C%69%2B%31%29%7D
 %64%6F%63%75%6D%65%6E%74%2E%77%72%69%74%65%28%27%3C%61%20%68%72%65%66%3D%2
 2%6D%61%69%6C%74%6F%3A%27%2B%72%2B%27%22%3E%62%70%77%2D%6B%6F%65%6C%6E%40%
 77%65%62%2E%64%65%3C%2F%61%3E%27%29%3B'))Kosten / Anmeldung:Für BPW-Mitgl
 ieder ist der Vortrag kostenlos\; Interessentinnen zahlen 10 Euro.Veransta
 ltungsort:Wird noch bekannt gegeben.
END:VEVENT
BEGIN:VTIMEZONE
TZID:Europe/Berlin
X-LIC-LOCATION:Europe/Berlin
BEGIN:STANDARD
DTSTART:20161030T020000
TZOFFSETFROM:+0200
TZOFFSETTO:+0100
TZNAME:CET
END:STANDARD
END:VTIMEZONE
END:VCALENDAR