BEGIN:VCALENDAR
VERSION:2.0
PRODID:-//wp-events-plugin.com//7.2.3.1//EN
TZID:Europe/Berlin
X-WR-TIMEZONE:Europe/Berlin
BEGIN:VEVENT
UID:5849@frauenportal.koeln
DTSTART;TZID=Europe/Berlin:20251112T190000
DTEND;TZID=Europe/Berlin:20251112T220000
DTSTAMP:20251104T104855Z
URL:https://frauenportal.koeln/veranstaltungen/bpw-koeln-connect-3/
SUMMARY:BPW Köln Connect
DESCRIPTION:– Monatlicher Stammtisch –\n\nHier treffen sich Frauen aus 
 dem BPW Köln Netzwerk zum offenen Austausch\, zur gegenseitigen Unterstü
 tzung und um neue Verbindungen zu knüpfen. Jede ist eingeladen! In locker
 er Atmosphäre wird Raum geschaffen für inspirierende Gespräche\, frisch
 e Impulse und wertvolle Kontakte. \n\nInteressentinnen sind ebenfalls herz
 lich eingeladen!\n\nVeranstalterinnen:\nBPW Germany Club Köln\n\nAnsprech
 partnerin:\nNyelete S. Gonçalves Chilenge\, E-Mail: bpw-koeln@web.de\n\nK
 osten / Anmeldung:\nKein Kostenbeitrag. Anmeldung unter https://www.eventb
 rite.de/e/bpw-koln-connect-tickets-1855987812509
LOCATION:Mahal Antiochia\, Eburonenstr. 1\, 50678 Köln
GEO:50.918663;6.964372
X-APPLE-STRUCTURED-LOCATION;VALUE=URI;X-ADDRESS=Eburonenstr. 1\, Köln\, No
 rdrhein-Westfalen\, 50678\, Veranstaltungsort\, Deutschland;X-APPLE-RADIUS
 =100;X-TITLE=Mahal Antiochia:geo:50.918663,6.964372
END:VEVENT
BEGIN:VTIMEZONE
TZID:Europe/Berlin
X-LIC-LOCATION:Europe/Berlin
BEGIN:STANDARD
DTSTART:20251026T020000
TZOFFSETFROM:+0200
TZOFFSETTO:+0100
TZNAME:CET
END:STANDARD
END:VTIMEZONE
END:VCALENDAR