BEGIN:VCALENDAR
VERSION:2.0
PRODID:-//wp-events-plugin.com//7.2.3.1//EN
TZID:Europe/Berlin
X-WR-TIMEZONE:Europe/Berlin
BEGIN:VEVENT
UID:1325@frauenportal.koeln
DTSTART;TZID=Europe/Berlin:20180915T130000
DTEND;TZID=Europe/Berlin:20180915T170000
DTSTAMP:20180905T094521Z
URL:https://frauenportal.koeln/veranstaltungen/bpw-spritspar-training/
SUMMARY:BPW: Spritspar-Training
DESCRIPTION:In diesem Sommer bietet Ford neben der Kölner Spritspar-Meiste
 rschaft einstündige Spritspar-Trainings an\, in denen praxisnah eine spri
 tparende\, sichere\, entspannte und klimaschonendere Fahrweise vermittelt 
 wird. Auch Unternehmen und Vereine können daran teilnehmen.\n\nDer BPW Cl
 ub Köln möchte sich dieses Event nicht entgehen lassen und hat daher fü
 r den 15.09.2018 Spritspar-Trainings mit Ford reserviert.\n\nWie läuft da
 s Training ab?\nUnter Alltagsbedingungen werden 1 Stunde lang individuell 
 zentrale Elemente von sicherem und stressfreiem Autofahren trainiert. Ein 
 zertifizierter Coach vermittelt dabei vorausschauende Fahrweise als Kernko
 mpetenz. Der Erfolg lässt sich ablesen am Spritverbrauch vor und nach dem
  Training\, also am Einsparergebnis und dem reduzierten Stresslevel\; summ
 a summarum ein konkreter Beitrag zu einer neuen\, kooperativen Mobilitäts
 kultur.\n\nDer BPW CLub Köln hat 20 Trainings reserviert\, fünf pro Stun
 de. Es können daher insgesamt 20 Frauen ein Training innerhalb der insges
 amt vier Stunden absolvieren. Das Training beginnt jeweils zur vollen Stun
 de.\n\nUm das Training herum besteht die Möglichkeit zum Netzwerken in ei
 ner netten Location. \nWer einfach nur zum Netzwerken vorbei kommen möcht
 e\, ohne an dem Training selbst teilzunehmen\, ist ebenfalls herzlich will
 kommen.\n\nVeranstalterin:\nBPW Germany Club Köln\n\nAnsprechpartnerin:\n
 Conny Amato-Zélic\, Tel.: 0172 / 1736090\, E-Mail: bpw-koeln@web.de \n\nK
 osten / Anmeldung:\nFür BPW-Mitglieder ist die Veranstaltung kostenlos\; 
 Interessentinnen zahlen 15 Euro. Getränke können kostenpflichtig erworbe
 n werden\, kleine Snacks stehen bereit. \n\nVeranstaltungsort:\nKulturgut 
 Eltzhof\, Sankt-Sebastianus-Straße 10\, 51147 Köln\, [map id=13236]
END:VEVENT
BEGIN:VTIMEZONE
TZID:Europe/Berlin
X-LIC-LOCATION:Europe/Berlin
BEGIN:DAYLIGHT
DTSTART:20180325T030000
TZOFFSETFROM:+0100
TZOFFSETTO:+0200
TZNAME:CEST
END:DAYLIGHT
END:VTIMEZONE
END:VCALENDAR