BEGIN:VCALENDAR
VERSION:2.0
PRODID:-//wp-events-plugin.com//7.2.3.1//EN
TZID:Europe/Berlin
X-WR-TIMEZONE:Europe/Berlin
BEGIN:VEVENT
UID:1837@frauenportal.koeln
DTSTART;TZID=Europe/Berlin:20190312T190000
DTEND;TZID=Europe/Berlin:20190312T210000
DTSTAMP:20190301T115734Z
URL:https://frauenportal.koeln/veranstaltungen/brigitte-glaser-liest-aus-r
 heinblick/
SUMMARY:Brigitte Glaser liest aus: "Rheinblick"
DESCRIPTION:Deutschland\, im November 1972: Niemand kennt das Bonner Politt
 heater besser als Hilde Kessel\, legendäre Wirtin des Rheinblicks. Bei ih
 r treffen sich Hinterbänkler und Minister\, Sekretärinnen und Taxifahrer
 . Als der Koalitionspoker nach der Bundestagswahl härter wird\, wird Hild
 e in das politische Ränkespiel verwickelt. Verrat ist die gültige Währu
 ng. Gleichzeitig kämpft in der Abgeschiedenheit einer Klinik auf dem Venu
 sberg die junge Logopädin Sonja Engel mit Willy Brandt um seine Stimme\, 
 die ihm noch in der Wahlnacht versagte. Doch auch sie gerät unter Druck. 
 Beide Frauen sind erpressbar. Für Hilde steht ihre Existenz auf dem Spiel
 \, Sonja will ihre kleine Schwester beschützen. Wie werden sie sich entsc
 heiden? \n\nVeranstalterinnen:\nBuchhandlung Ludwig zugunsten von: Lobby f
 ür Mädchen - Mädchenhaus Köln e.V.\n\nAnsprechpartnerin:\nFrauke Mahr\
 , Tel: 0221 / 45 35 56 51\, E-Mail:  frauke-mahr@lobby-fuer-maedchen.de\n
 \nKosten / Anmeldung:\nEintritt: 6 € (ermäßigt 4 €). \nKarten: 0221 
 / 1260107 oder info@buchhandlung-ludwig.de\nSämtliche Einnahmen werden de
 r LOBBY FÜR MÄDCHEN e.V. gespendet.\n\nVeranstaltungsort:\nLUDWIG im Hau
 ptbahnhof\, B-Passage\, Trankgasse 11\, 50667 Köln\, [map id=13076]
END:VEVENT
BEGIN:VTIMEZONE
TZID:Europe/Berlin
X-LIC-LOCATION:Europe/Berlin
BEGIN:STANDARD
DTSTART:20181028T020000
TZOFFSETFROM:+0200
TZOFFSETTO:+0100
TZNAME:CET
END:STANDARD
END:VTIMEZONE
END:VCALENDAR