BEGIN:VCALENDAR
VERSION:2.0
PRODID:-//wp-events-plugin.com//7.2.3.1//EN
TZID:Europe/Berlin
X-WR-TIMEZONE:Europe/Berlin
BEGIN:VEVENT
UID:1923@frauenportal.koeln
DTSTART;TZID=Europe/Berlin:20190523T100000
DTEND;TZID=Europe/Berlin:20190523T120000
DTSTAMP:20190520T082444Z
URL:https://frauenportal.koeln/veranstaltungen/brunch-fuer-existenzgruende
 rinnen-4/
SUMMARY:Brunch für Existenzgründerinnen
DESCRIPTION:Sie sind beruflich selbstständig oder wollen gründen? Dann la
 den die BPW-Köln-Frauen Sie herzlich ein zu ihrem leckeren und lockeren G
 ründerinnen-Brunch bzw. -Frühstück zum Austauschen von Erfahrungen rund
  um die Selbstständigkeit\, Weitergeben von Tipps\, Kennenlernen neuer Ge
 sichter und zum Sammeln von Anregungen für weitere Themen.\n\nVeranstalte
 rin:\nBPW Germany Club Köln\n\nAnsprechpartnerin:\nClaudia Thiel\, E-Mail
 : bpw-koeln@web.de\n\nKosten / Anmeldung:\nUm Anmeldung an bpw-koeln@web.d
 ewird gebeten.\n\nVeranstaltungsort:\nCarmelädchen\, Bonner Str. 80\, 506
 77 Köln\, [map id=14179]
END:VEVENT
BEGIN:VTIMEZONE
TZID:Europe/Berlin
X-LIC-LOCATION:Europe/Berlin
BEGIN:DAYLIGHT
DTSTART:20190331T030000
TZOFFSETFROM:+0100
TZOFFSETTO:+0200
TZNAME:CEST
END:DAYLIGHT
END:VTIMEZONE
END:VCALENDAR