BEGIN:VCALENDAR
VERSION:2.0
PRODID:-//wp-events-plugin.com//7.2.3.1//EN
TZID:Europe/Berlin
X-WR-TIMEZONE:Europe/Berlin
BEGIN:VEVENT
UID:479@frauenportal.koeln
DTSTART;TZID=Europe/Berlin:20170921T103000
DTEND;TZID=Europe/Berlin:20170921T123000
DTSTAMP:20170731T144254Z
URL:https://frauenportal.koeln/veranstaltungen/brunch-fuer-existenzgruende
 rinnen/
SUMMARY:Brunch für Existenzgründerinnen
DESCRIPTION:Sie sind beruflich selbstständig oder wollen gründen? Dann la
 den die BPW-Köln-Frauen Sie herzlich ein zu einem Erfahrungsaustausch bei
  ihrem Gründerinnen-Brunch. Veranstalterin:BPW Germany Club KölnAnsprech
 partnerin:Claudia Thiel\, 0173 / 709 05 37\, E-Mail: bpw-koeln@web.deKoste
 n / Anmeldung:Um Anmeldung wird gebeten.Veranstaltungsort:Die Rösterei\, 
 Aachener Str. 22\, 50674 Köln\, [map id=1052]
END:VEVENT
BEGIN:VTIMEZONE
TZID:Europe/Berlin
X-LIC-LOCATION:Europe/Berlin
BEGIN:DAYLIGHT
DTSTART:20170326T030000
TZOFFSETFROM:+0100
TZOFFSETTO:+0200
TZNAME:CEST
END:DAYLIGHT
END:VTIMEZONE
END:VCALENDAR