BEGIN:VCALENDAR
VERSION:2.0
PRODID:-//wp-events-plugin.com//7.2.3.1//EN
TZID:Europe/Berlin
X-WR-TIMEZONE:Europe/Berlin
BEGIN:VEVENT
UID:5113@frauenportal.koeln
DTSTART;TZID=Europe/Berlin:20240816T180000
DTEND;TZID=Europe/Berlin:20240816T210000
DTSTAMP:20240731T144842Z
URL:https://frauenportal.koeln/veranstaltungen/buchlesung-mit-manuela-rous
 seau/
SUMMARY:Buchlesung mit Manuela Rousseau
DESCRIPTION:Der Termin findet nicht statt.Wenn wir uns große Ziele setzen\
 , begegnen uns oft Selbstzweifel und es gilt viele Hürden zu überwinden.
  „Wir brauchen Frauen\, die sich trauen. Mein ungewöhnlicher Weg bis de
 n Aufsichtsrat eines DAX Konzerns“ lautet daher das Buch von Manuela Rou
 sseau\, in dem sie anhand ihres persönlichen Lebenswegs zeigt\, dass Frau
 en und Männer ihre individuellen Stärken und ihre gestalterische Kraft n
 icht nur in die Arbeitswelt einbringen können\, sondern müssen – wenn 
 sie die Zukunft in Unternehmen\, Wirtschaft und Gesellschaft mitbestimmen 
 wollen. Prof. Manuela Rousseau bestimmte über 25 Jahre im Aufsichtsrat ei
 nes weltweit agierenden DAX-Konzerns\, der Beiersdorf AG Hamburg\, den Erf
 olg des Unternehmens mit. \n \nAus den exponierten Führungspositionen\, d
 ie Manuela Rousseau seit 1999 einnimmt\, bringt sie sich in die Diskussion
  um berufliche Gleichberechtigung ein\, engagiert sich für das Thema Frau
 en in Führung und gibt als Mentorin und Professorin ihr Wissen und ihre E
 rfahrung an den Nachwuchs weiter. \n \nAm 16. August kommt sie persönlich
  nach Köln und gibt Einblicke in ihren Weg bis in den Aufsichtsrat. Sie m
 öchte damit Mut machen\, große Ziele weiterhin im Fokus zu halten: "Mut\
 , JA zu sagen\, zu Chancen\, die es ermöglichen den Berufsweg nach eigene
 n Regeln zu gestalten. Mut\, authentisch zu sein\, um überholte Klischees
  zu überwinden. Mut eigenwillig zu sein und bestehende überzogene Erwart
 ungen hinter sich zu lassen." \n \nSie wird ihr Buch vorstellen\, mit den 
 Anwesenden diskutieren und ihre Erfahrungen teilen. \n\nReferentin:\nProf.
  Manuela Rousseau\, www.manuelarousseau.de\n\nVeranstalterinnen:\nBPW Germ
 any Club Köln\nin Kooperation mit der FOM Hochschule. Hochschulstudienzen
 trum Köln\, www.fom.de\n\nAnsprechpartnerin:\nNyelete S. Gonçalves Chile
 nge\,E-Mail: bpw-koeln@web.de\n\nKosten /Anmeldung:\nFür BPW-Mitglieder u
 nd FOM-Studierende ist die Anmeldung kostenlos\, alle anderen zahlen einen
  Beitrag von 15 €.\nAnmeldung unter: www.eventbrite.de/e/warum-es-so-wic
 htig-ist-mutig-zu-sein-tickets-929768341137
LOCATION:FOM Hochschule. Hochschulzentrum Köln-Ehrenfeld\, Venloer Str. 23
 1 B\, 50823 Köln
GEO:50.945597;6.923182
X-APPLE-STRUCTURED-LOCATION;VALUE=URI;X-ADDRESS=Venloer Str. 231 B\, Köln\
 , 50823\, Veranstaltungsort\, Deutschland;X-APPLE-RADIUS=100;X-TITLE=FOM H
 ochschule. Hochschulzentrum Köln-Ehrenfeld:geo:50.945597,6.923182
END:VEVENT
BEGIN:VTIMEZONE
TZID:Europe/Berlin
X-LIC-LOCATION:Europe/Berlin
BEGIN:DAYLIGHT
DTSTART:20240331T030000
TZOFFSETFROM:+0100
TZOFFSETTO:+0200
TZNAME:CEST
END:DAYLIGHT
END:VTIMEZONE
END:VCALENDAR