BEGIN:VCALENDAR
VERSION:2.0
PRODID:-//wp-events-plugin.com//7.2.3.1//EN
TZID:Europe/Berlin
X-WR-TIMEZONE:Europe/Berlin
BEGIN:VEVENT
UID:1346@frauenportal.koeln
DTSTART;TZID=Europe/Berlin:20240813T160000
DTEND;TZID=Europe/Berlin:20240813T180000
DTSTAMP:20241230T152244Z
URL:https://frauenportal.koeln/veranstaltungen/buechertreff-im-beginenfens
 ter/
SUMMARY:Büchertreff im Beginenfenster
DESCRIPTION:Ein offener Gesprächskreis für alle\, die gern lesen. Die Tei
 lnehmerinnen stellen sich gegenseitig Bücher vor\, die sie gerade lesen o
 der gelesen haben und die sie empfehlen können – egal ob Roman\, Sachbu
 ch\, Gedichtband …\n\nWorum geht es in dem jeweiligen Buch\, was wissen 
 ist über die Autorin / den Autor bekannt? Und vor allem: Warum hat mich g
 erade dieses Buch besonders gefesselt\, bewegt\, informiert\, nachdenklich
  gemacht?\n\nWillkommen sind aber auch alle\, die (dieses Mal) kein Buch v
 orstellen\, sondern einfach Anregungen sammeln und ins Gespräch über Bü
 cher kommen möchten.\n\nModeration: \nGabriele Gassen und Renate Podehl-S
 autner\n\nNächste Termine: 8. Oktober / 10. Dezember 2024\n\nVeranstalter
 in:\nBeginen Köln e.V.\n\nAnsprechpartnerin:\nChristine Müthrath\, Tel.:
  0221 / 9655820\, E-Mail: info@beginen.de\n\nAnmeldung / Kosten:\nKostenbe
 itrag auf Spendenbasis
LOCATION:Beginenfenster Köln\, Markmannsgasse 7\, 50667 Köln
GEO:50.936778;6.961977
X-APPLE-STRUCTURED-LOCATION;VALUE=URI;X-ADDRESS=Markmannsgasse 7\, Köln\, 
 50667\, Frauenorganisation\, Deutschland;X-APPLE-RADIUS=100;X-TITLE=Begine
 nfenster Köln:geo:50.936778,6.961977
END:VEVENT
BEGIN:VTIMEZONE
TZID:Europe/Berlin
X-LIC-LOCATION:Europe/Berlin
BEGIN:DAYLIGHT
DTSTART:20240331T030000
TZOFFSETFROM:+0100
TZOFFSETTO:+0200
TZNAME:CEST
END:DAYLIGHT
END:VTIMEZONE
END:VCALENDAR