BEGIN:VCALENDAR
VERSION:2.0
PRODID:-//wp-events-plugin.com//7.2.3.1//EN
TZID:Europe/Berlin
X-WR-TIMEZONE:Europe/Berlin
BEGIN:VEVENT
UID:4282@frauenportal.koeln
DTSTART;TZID=Europe/Berlin:20230511T173000
DTEND;TZID=Europe/Berlin:20230511T193000
DTSTAMP:20230430T085820Z
URL:https://frauenportal.koeln/veranstaltungen/buecherverbrennung-ein-femi
 nistischer-rundgang-mit-gaestinnen/
SUMMARY:Bücherverbrennung – Ein feministischer Rundgang mit Gäst*innen
DESCRIPTION:– verbrannt & verbannt - Aktionswoche 90 Jahre Bücherverbren
 nung – \n\n120 uniformierte NS-Studentinnen nahmen laut dem Westdeutsche
 n Beobachter vom 18.05.1933 an den Bücherverbrennungen vor der damaligen 
 Universität teil. Verbrannt wurden am 17. Mai 1933 Bücher jüdischer\, m
 arxistischer\, pazifistischer und sonstwie oppositioneller Autorinnen und 
 Autoren und Kulturschaffender. Die Aktion fand in nahezu allen Universitä
 tsstädten nur wenige Wochen nach der Machtergreifung durch die Nationalso
 zialist:innen statt und markiert einen Beginn der Unterdrückung von Litea
 tur und Kultur. \n\nAn verschiedenen Stationen wie dem Wohnort von Irmgard
  Keun\, dem Studienort von Anna Seghers\, im Friedenspark und am Fort I wi
 rd an Schriftstellerinnen\, Pazifistinnen und ihre Texte erinnert sowie an
  den Sexualforscher Magnus Hirschfeld\, der Bertha Buttgereit ein (Trans-)
 Leben als Berthold Buttgereit ermöglichte. Weitere Aspekte des Rundgangs 
 sind Rosa Luxemburgs Gefängnisbriefe und aktuelle Texte verfolgter Lyrike
 rinnen.\n\nDie literarischen Texte werden von unseren Gästen vorgetragen:
  Renate Fuhrmann\, Klaus Nierhoff und Doris Plenert. \n\nVeranstalterin:\n
 Kölner Frauengeschichtsverein e.V.\n\nKontakt:\nTel.: 0221 / 24 82 65\, E
 -Mail: info@frauengeschichtsverein.de\n\nKosten / Anmeldung:\nKostenfrei. 
 Spenden erbeten.
LOCATION:Trajanstraße 10\, Trajanstr. 10\, 50678 Köln
GEO:50.921029;6.966478
X-APPLE-STRUCTURED-LOCATION;VALUE=URI;X-ADDRESS=Trajanstr. 10\, Köln\, Nor
 drhein-Westfalen\, 50678\, Veranstaltungsort\, Deutschland;X-APPLE-RADIUS=
 100;X-TITLE=Trajanstraße 10:geo:50.921029,6.966478
END:VEVENT
BEGIN:VTIMEZONE
TZID:Europe/Berlin
X-LIC-LOCATION:Europe/Berlin
BEGIN:DAYLIGHT
DTSTART:20230326T030000
TZOFFSETFROM:+0100
TZOFFSETTO:+0200
TZNAME:CEST
END:DAYLIGHT
END:VTIMEZONE
END:VCALENDAR