BEGIN:VCALENDAR
VERSION:2.0
PRODID:-//wp-events-plugin.com//7.2.3.1//EN
TZID:Europe/Berlin
X-WR-TIMEZONE:Europe/Berlin
BEGIN:VEVENT
UID:2555@frauenportal.koeln
DTSTART;TZID=Europe/Berlin:20200118T160000
DTEND;TZID=Europe/Berlin:20200118T180000
DTSTAMP:20191231T091023Z
URL:https://frauenportal.koeln/veranstaltungen/buerger-machen-landwirtscha
 ft/
SUMMARY:Bürger machen Landwirtschaft
DESCRIPTION:In diesem Vortrag und gemeinsamen Austausch stellen Reinhard Ka
 mp (Bauer des Hellmese Hofes in Stommeln\, www.hellmese-hof.de) und Tanja 
 Schlote (Initiatorin von "Bürger machen Landwirtschaft"\, www.bürgermach
 enlandwirtschaft.de) vor\, wie man als KonsumentIn lokal erzeugte Bio-Prod
 ukte vor Ort unterstützen kann. Das geht auf vielfältige Weise und erzeu
 gt einen großen Mehrwert für Artenvielfalt\, Klimaschutz\, Ernährungssi
 cherheit und sozialen Zusammenhalt.\n\n"Bürger machen Landwirtschaft" nen
 nnen sich die solidarische Gemeinschaft und das Konzept\, das diese Ziele 
 verfolgt und umsetzt. An diesem Nachmittag ist mehr über Landwirtschaft u
 nd klimaverträgliche Erzeugung gesunder Lebensmittel in der Region zu erf
 ahren und wie Sie dabei selbst aktiv werden können.\n\nVeranstalterin:\nB
 eginen Köln e.V.\n\nAnsprechpartnerin:\nChristine Müthrath\, Tel.: 0221 
 / 9655820\, E-Mail: info@beginen.de\n\nKosten:\nEintritt frei.\n\nVeransta
 ltungsort:\nBeginentreff im Beginenhof Köln\, Unter Linden 119\, 50859 K
 öln\, [map id=1048]
END:VEVENT
BEGIN:VTIMEZONE
TZID:Europe/Berlin
X-LIC-LOCATION:Europe/Berlin
BEGIN:STANDARD
DTSTART:20191027T020000
TZOFFSETFROM:+0200
TZOFFSETTO:+0100
TZNAME:CET
END:STANDARD
END:VTIMEZONE
END:VCALENDAR