BEGIN:VCALENDAR
VERSION:2.0
PRODID:-//wp-events-plugin.com//7.2.3.1//EN
TZID:Europe/Berlin
X-WR-TIMEZONE:Europe/Berlin
BEGIN:VEVENT
UID:3763@frauenportal.koeln
DTSTART;TZID=Europe/Berlin:20220518T193000
DTEND;TZID=Europe/Berlin:20220518T220000
DTSTAMP:20230515T081113Z
URL:https://frauenportal.koeln/veranstaltungen/business-hacks-zum-thema-ve
 rkauf/
SUMMARY:Business-Hacks zum Thema Verkauf
DESCRIPTION:Verkaufen ist nicht nur ein Thema für Vertriebler*innen\, wir 
 alle müssen ständig etwas verkaufen: unsere Leistungen\, wenn wir selbst
 ständig sind\; unsere Arbeitskraft\, wenn wir angestellt sind\; und schli
 eßlich uns selbst\, wenn wir aufsteigen oder die Stelle wechseln wollen. 
 Gleichzeitig empfinden vor allem viele Frauen dieses Verkaufen-Müssen als
  unangenehm bis beängstigend. An diesem Abend wird sich - durch eine Mode
 ration geführt - gemeinsam dieser Herausforderung gestellt\, über die ei
 genen Erfahrungen ausgetauscht und konkrete Tipps\, so genannte "Hacks"\, 
 werden zusammentragen.\n\nReferentin:\nAstrid Windfuhr\, Kommunikationstra
 inerin und Coach\n\nVeranstalterin:\nBundesverband der Frau in Business un
 d Management e.V.\n\nAnsprechpartnerin:\nAstrid Windfuhr\, Tel.: 0221 / 73
 2 63 53\n\nKosten / Anmeldung:\nKostenbeitrag für Gäste: 17 Euro. Um Anm
 eldung wird gebeten unter www.eventbrite.de/e/business-hacks-zum-thema-ver
 kauf-tickets-326666025877\n\nVeranstaltungsort:\nLohmarer Institut für We
 iterbildung e.V.\, Seminarraum in Köln\, Hansaring 4\, 50670 Köln\, [map
  id=17008]
END:VEVENT
BEGIN:VTIMEZONE
TZID:Europe/Berlin
X-LIC-LOCATION:Europe/Berlin
BEGIN:DAYLIGHT
DTSTART:20220327T030000
TZOFFSETFROM:+0100
TZOFFSETTO:+0200
TZNAME:CEST
END:DAYLIGHT
END:VTIMEZONE
END:VCALENDAR