BEGIN:VCALENDAR
VERSION:2.0
PRODID:-//wp-events-plugin.com//7.2.3.1//EN
TZID:Europe/Berlin
X-WR-TIMEZONE:Europe/Berlin
BEGIN:VEVENT
UID:2407@frauenportal.koeln
DTSTART;TZID=Europe/Berlin:20191118T090000
DTEND;TZID=Europe/Berlin:20191118T170000
DTSTAMP:20191118T155551Z
URL:https://frauenportal.koeln/veranstaltungen/businessfrauen-vorbildunter
 nehmerinnen-fuer-gruenderinnen/
SUMMARY:„Businessfrauen“ – Vorbildunternehmerinnen für Gründerinnen
DESCRIPTION:Acht erfolgreiche Kölner Unternehmerinnen sprechen mit gründu
 ngsinteressierten Frauen und Jungunternehmerinnen über\n\n 	Gründerinnen
 person &amp\; Familie\n 	Geschäftsidee\, Markt und Wettbewerb &amp\; Mark
 eting\n 	Organisation\, MitarbeiterInnen &amp\; Rechtsform\n 	Chancen\, Ri
 siken\, Finanzplanung\, Finanzierung\, Absicherung &amp\; Verträge\n\nEin
 e Veranstaltung im Rahmen der Global Entrepreneurship Week (www.genglobal.
 org).\n\nVeranstalterinnen:\nKölnBusiness Wirtschaftsförderungs-GmbH (ko
 eln.business) in Kooperation mit Kölner Vorbildunternehmerinnen der Initi
 ative „FRAUEN unternehmen“ des Bundesministeriums für Wirtschaft und 
 Energie (frauen-unternehmen-initiative.de\, www.vorbildunternehmerinnen-ko
 eln.de)\n\nAnsprechpartnerInnen:\nAndrea Wiedenhöfer\, Tel.: 0221 / 221-2
 4111\, oder Andreas Severin\, Tel.: 0221 / 221-24122. E-Mail: kbw-gruender
 woche@stadt-koeln.de \n\nKosten / Anmeldung:\nEintritt frei\, Anmeldung er
 forderlich.\n\nVeranstaltungsort:\nStadthaus Deutz - Westgebäude\, Raum 1
 6.F.42\, Willy-Brandt-Platz 2\, 50679 Köln\, [map id=1012]
END:VEVENT
BEGIN:VTIMEZONE
TZID:Europe/Berlin
X-LIC-LOCATION:Europe/Berlin
BEGIN:STANDARD
DTSTART:20191027T020000
TZOFFSETFROM:+0200
TZOFFSETTO:+0100
TZNAME:CET
END:STANDARD
END:VTIMEZONE
END:VCALENDAR