BEGIN:VCALENDAR
VERSION:2.0
PRODID:-//wp-events-plugin.com//7.2.3.1//EN
TZID:Europe/Berlin
X-WR-TIMEZONE:Europe/Berlin
BEGIN:VEVENT
UID:1907@frauenportal.koeln
DTSTART;TZID=Europe/Berlin:20190515T193000
DTEND;TZID=Europe/Berlin:20190515T220000
DTSTAMP:20190430T101312Z
URL:https://frauenportal.koeln/veranstaltungen/charisma-und-wirkung/
SUMMARY:Charisma und Wirkung
DESCRIPTION:Eva Thiel\, Moderatorin\, Schauspielerin und Trainerin zeigt di
 e innere Haltung\, die Menschen charismatisch wirken lässt\, sobald sie a
 uf einer Bühne sind - egal ob auf einer Theaterbühne oder der Bühne des
  Lebens. Dafür nutzt sie die mentale Kraft\, die im Improvisationstheater
  steckt. \n\nEva Thiel spielt seit 1995 aktiv auf diversen Bühnen Improvi
 sationstheater\, gleichzeitig hat sie einen akademischen Background und is
 t es gewohnt\, als Geschäftsführerin der clamotta ImproSchule sachlich u
 nd strukturiert zu denken. Mit viel Charme\, Humor und jeder Menge Aha-Eff
 ekten gelingt es ihr\, eine Brücke zwischen der eher emotional-künstleri
 schen Welt und der eher strukturiert-geplanten Berufswelt zu schlagen.\n\n
 Referentin:\nEva Thiel\, www.eva-thiel.de\n\nVeranstalterin:\nBundesverban
 d der Frau in Business und Management e.V.\n\nAnsprechpartnerin:\nAstrid W
 indfuhr\, Tel.: 0221 / 732 63 53\n\nKosten / Anmeldung:\nKostenbeitrag fü
 r Gäste: 17 Euro.\n\nVeranstaltungsort:\nBelle Etage (über dem Salon Sch
 mitz)\, Aachener Str. 28\, 50674 Köln\, [map id=14215]
END:VEVENT
BEGIN:VTIMEZONE
TZID:Europe/Berlin
X-LIC-LOCATION:Europe/Berlin
BEGIN:DAYLIGHT
DTSTART:20190331T030000
TZOFFSETFROM:+0100
TZOFFSETTO:+0200
TZNAME:CEST
END:DAYLIGHT
END:VTIMEZONE
END:VCALENDAR