BEGIN:VCALENDAR
VERSION:2.0
PRODID:-//wp-events-plugin.com//7.2.3.1//EN
TZID:Europe/Berlin
X-WR-TIMEZONE:Europe/Berlin
BEGIN:VEVENT
UID:5030@frauenportal.koeln
DTSTART;TZID=Europe/Berlin:20240418T193000
DTEND;TZID=Europe/Berlin:20240418T210000
DTSTAMP:20240415T144505Z
URL:https://frauenportal.koeln/veranstaltungen/chorprobe-frauenchor-st-kol
 umba-2024-04-18/
SUMMARY:Chorprobe Frauenchor St. Kolumba
DESCRIPTION:Von der Gregorianik über Barock\, Klassik und Romantik bis in 
 die Moderne reicht das Repertoire des Frauenchors von St. Kolumba.\n\nFrau
 en\, die mitsingen wollen\, sind herzlich eingeladen zu einer der Proben z
 u kommen.\n\nSie finden jeden Donnerstag um 19.30 Uhr im kleinen Pfarrsaal
  von St. Kolumba im Minoritenkloster\, Turiner Str. 4\, statt.\n\nDen Chor
  leitet die Kirchenmusikerin Emanuela Musso.\n\nHier ist die Einladung: Fr
 auenchor St. Kolumba Probe (pdf-Datei\, 100 KB)\n\nVeranstalterin:\nFrauen
 chor St. Kolumba\n\nAnsprechpartnerin:\nEmanuela Musso\, Tel.: 01522 / 418
 6916\, E-Mail: manumusso@live.it
LOCATION:Minoritenkloster\, Tunisstr. 4\, 50667 Köln
GEO:50.939447;6.953525
X-APPLE-STRUCTURED-LOCATION;VALUE=URI;X-ADDRESS=Tunisstr. 4\, Köln\, Nordr
 hein-Westfalen\, 50667\, Deutschland;X-APPLE-RADIUS=100;X-TITLE=Minoritenk
 loster:geo:50.939447,6.953525
END:VEVENT
BEGIN:VTIMEZONE
TZID:Europe/Berlin
X-LIC-LOCATION:Europe/Berlin
BEGIN:DAYLIGHT
DTSTART:20240331T030000
TZOFFSETFROM:+0100
TZOFFSETTO:+0200
TZNAME:CEST
END:DAYLIGHT
END:VTIMEZONE
END:VCALENDAR