BEGIN:VCALENDAR
VERSION:2.0
PRODID:-//wp-events-plugin.com//7.2.3.1//EN
TZID:Europe/Berlin
X-WR-TIMEZONE:Europe/Berlin
BEGIN:VEVENT
UID:5024@frauenportal.koeln
DTSTART;TZID=Europe/Berlin:20240427T200000
DTEND;TZID=Europe/Berlin:20240427T223000
DTSTAMP:20240404T123120Z
URL:https://frauenportal.koeln/veranstaltungen/christiane-olivier-unterste
 -schublade/
SUMMARY:Christiane Olivier - Unterste Schublade
DESCRIPTION:Premiere ihres neues Solostücks: Unterste Schublade.\n\nChrist
 iane Olivier feilt nicht stundenlang an Punchlines\, sie passieren ihr ein
 fach.\nAus einem Abend mit ihr geht man in der Regel anders raus\, als man
  gekommen ist - das Publikum verschmilzt zu einem großen Ganzen\, der ein
 e oder die andere geht nach der Show mit einem neuen Kumpel oder einer neu
 en Liebe nach Hause- alles ist möglich.\nUnd alles schon mal vorgekommen.
 \n\nOb ihr Programm anspruchsvoll genug ist oder in die unterste Schublade
  passt\, ist der Deutsch-Belgierin recht egal.\nSie selbst hat in ihrem Le
 ben schon einiges meistern müssen.\nIhr sind keine Untiefen fremd\; ob al
 s alleinerziehende Mutter\, Hypochonder oder als jemand\, der mit Angstzus
 tänden zu tun hat - Sie hat schon vieles gesehen und teilt ihre Erfahrung
 en gerne mit der Welt.\nIhr Humor ist echt direkt und authentisch.\n\nEint
 ritt: 22 €\nVVK: www.koelnticket.de/artist/christiane-olivier/christiane
 -olivier-unterste-schublade-3579969/
END:VEVENT
BEGIN:VTIMEZONE
TZID:Europe/Berlin
X-LIC-LOCATION:Europe/Berlin
BEGIN:DAYLIGHT
DTSTART:20240331T030000
TZOFFSETFROM:+0100
TZOFFSETTO:+0200
TZNAME:CEST
END:DAYLIGHT
END:VTIMEZONE
END:VCALENDAR