BEGIN:VCALENDAR
VERSION:2.0
PRODID:-//wp-events-plugin.com//7.2.3.1//EN
TZID:Europe/Berlin
X-WR-TIMEZONE:Europe/Berlin
BEGIN:VEVENT
UID:5058@frauenportal.koeln
DTSTART;TZID=Europe/Berlin:20240503T180000
DTEND;TZID=Europe/Berlin:20240503T200000
DTSTAMP:20240430T142519Z
URL:https://frauenportal.koeln/veranstaltungen/christine-de-pisan-das-buch
 -von-der-stadt-der-frauen-1405/
SUMMARY:Christine de Pisan „Das Buch von der Stadt der Frauen“ (1405)
DESCRIPTION:- Neue Serie: Student:innen stellen vor  -\n\nDe Pizan verfasst
 e am Beginn des 15. Jahrhunderts ein Werk\, in welchem sie bedeutende\, of
 t marginalisierte  historische Frauengestalten aus der biblischen und welt
 lichen  Geschichte beschrieb und eine utopische Gesellschaft entwarf \, in
  der den Frauen gleiche Rechte zugebilligt werden: „Das Buch von der Sta
 dt der Frauen“. \n\nUnter welchen Umständen konnte so ein Buch entstehe
 n\, was zeichnet die weiteren Werke der Autorin aus und welche Mittel zum 
 Kampf für Frauenrechte gibt es darin noch oder gerade heute? Beeinflusst 
 also das erste Buch\, das im Spätmittelalter von einer Frau zur Verteidig
 ung von Frauen geschrieben wurde\,  uns noch heute? \n\nFelicitas Godtmann
  referiert aus ihrer Bachelorarbeit\, anschließend Diskussion.\n\nVeranst
 alterin:\nKölner Frauengeschichtsverein e.V.\n\nKontakt:\nTel.: 0221 / 24
  82 65\, E-Mail: info@frauengeschichtsverein.de\n\nKosten / Anmeldung:\nKe
 in Eintritt. Anmeldung erforderlich wegen begrenzter Plätze.
LOCATION:Kölner Frauengeschichtsverein\, Höninger Weg 100a\, 50969 Köln
GEO:50.916357;6.941413
X-APPLE-STRUCTURED-LOCATION;VALUE=URI;X-ADDRESS=Höninger Weg 100a\, Köln\
 , 50969\, Frauenorganisation\, Deutschland;X-APPLE-RADIUS=100;X-TITLE=Köl
 ner Frauengeschichtsverein:geo:50.916357,6.941413
END:VEVENT
BEGIN:VTIMEZONE
TZID:Europe/Berlin
X-LIC-LOCATION:Europe/Berlin
BEGIN:DAYLIGHT
DTSTART:20240331T030000
TZOFFSETFROM:+0100
TZOFFSETTO:+0200
TZNAME:CEST
END:DAYLIGHT
END:VTIMEZONE
END:VCALENDAR