BEGIN:VCALENDAR
VERSION:2.0
PRODID:-//wp-events-plugin.com//7.2.3.1//EN
TZID:Europe/Berlin
X-WR-TIMEZONE:Europe/Berlin
BEGIN:VEVENT
UID:2398@frauenportal.koeln
DTSTART;TZID=Europe/Berlin:20191212T140000
DTEND;TZID=Europe/Berlin:20191212T170000
DTSTAMP:20191021T093236Z
URL:https://frauenportal.koeln/veranstaltungen/christkind-und-knabbereien-
 krippengang-mit-sieben-gaengen/
SUMMARY:Christkind und Knabbereien: Krippengang mit sieben Gängen
DESCRIPTION:Wird ein Besuch der sieben schönsten Krippen Rodenkirchens ers
 t durch kulinarische Pausen richtig schön? Oder sollten sieben Leckereien
  von Hors d’Oeuvre bis Dessert durch Krippenbesuche aufgelockert werden?
  Wie man es auch dreht und wendet\, diese gemütliche Tour über ca. 3 Std
 . ist ein Highlight-Klassiker der Vorweihnachtszeit.\n\nKosten: Euro 29\,0
 0 zzgl. Getränke\nAnmeldung erforderlich.\n\nservice@tour-agentur.de\n022
 1 93 272 63\n\nWeiterer Termin: 18. Dezember 2019\n\nErlebnistouren Köln 
 &amp\; Region - Tour-Agentur\n
END:VEVENT
BEGIN:VTIMEZONE
TZID:Europe/Berlin
X-LIC-LOCATION:Europe/Berlin
BEGIN:STANDARD
DTSTART:20191027T020000
TZOFFSETFROM:+0200
TZOFFSETTO:+0100
TZNAME:CET
END:STANDARD
END:VTIMEZONE
END:VCALENDAR