BEGIN:VCALENDAR
VERSION:2.0
PRODID:-//wp-events-plugin.com//7.2.3.1//EN
TZID:Europe/Berlin
X-WR-TIMEZONE:Europe/Berlin
BEGIN:VEVENT
UID:870@frauenportal.koeln
DTSTART;TZID=Europe/Berlin:20180612T183000
DTEND;TZID=Europe/Berlin:20180612T220000
DTSTAMP:20180604T072448Z
URL:https://frauenportal.koeln/veranstaltungen/clubabend-des-bpw-koeln-man
 agement-von-nachhaltigen-investitionen/
SUMMARY:Clubabend des BPW Köln: Management von nachhaltigen Investitionen
DESCRIPTION:Von herkömmlichen Securities über alternative Investment Fund
 s zu Schwarmfinanzierung und Kryptowährung: Was sich dahinter verbirgt\, 
 welche Plattformen sowie Vor- und Nachteile es gibt und wie private Person
 en mit wenig Startkapital an nachhaltigen Investitionsschemata online part
 izipieren und profitieren können. \n\nDer Abend beginnt wie immer um 18.3
 0 Uhr mit „losem“ Netzwerken und um 19.00 Uhr startet der Vortrag. \nI
 m Anschluss ist es bei Speis und Trank möglich weiter zu Netzwerken.\n\nR
 eferentin:\nRachel Andalaft\, www.rea-consult.com\n\nVeranstalterinnen:\nB
 PW Germany Club Köln\n\nAnsprechpartnerin:\nSonja Dominikowski\, Tel.: 02
 21 / 4248174\, E-Mail: bpw-koeln@web.de\n\nKosten / Anmeldung:\nUm Anmeldu
 ng unter bpw-koeln@web.de wird gebeten.\n\nVeranstaltungsort:\nTagungs- un
 d Gästehaus St.Georg\, Rolandstr. 61\, 50677 Köln\, [map id=995] 
END:VEVENT
BEGIN:VTIMEZONE
TZID:Europe/Berlin
X-LIC-LOCATION:Europe/Berlin
BEGIN:DAYLIGHT
DTSTART:20180325T030000
TZOFFSETFROM:+0100
TZOFFSETTO:+0200
TZNAME:CEST
END:DAYLIGHT
END:VTIMEZONE
END:VCALENDAR