BEGIN:VCALENDAR
VERSION:2.0
PRODID:-//wp-events-plugin.com//7.2.3.1//EN
TZID:Europe/Berlin
X-WR-TIMEZONE:Europe/Berlin
BEGIN:VEVENT
UID:4361@frauenportal.koeln
DTSTART;TZID=Europe/Berlin:20231116T190000
DTEND;TZID=Europe/Berlin:20231116T210000
DTSTAMP:20231031T155413Z
URL:https://frauenportal.koeln/veranstaltungen/clubuebergreifender-vernetz
 ungsabend/
SUMMARY:Clubübergreifender Vernetzungsabend
DESCRIPTION:Vernetzungsabend mit der Fempowerment Association e.V.\, www.fe
 mpowerment-association.de\n\nAus der Einladung:\n\n"Let's get to know each
  other - unter diesem Motto steht der clubübergreifende Netzwerkabend des
  BPW Club Köln e.V.\, einem Netzwerk für berufstätige Frauen\, und der 
 Fempowerment Association\, ein Frauennetzwerk an der Universität zu Köln
 . Welche Fragen\, Ideen und Motivation treiben uns jeweils an? Wo können 
 wir voneinander lernen und uns bestenfalls gegenseitig unterstützen?\n\nA
 n diesem Abend bieten wir die Möglichkeit\, über den eigenen (Club-)Tell
 errand hinaus zu schauen und sich - auch Generationen übergreifend - zu v
 ernetzen. Eingeleitet mit einem kurzen Speeddating habt ihr ausreichend Ze
 it\, eure Gespräche zu vertiefen und euch zu vernetzen. Interessentinnen 
 sind herzlich willkommen!\n\nWir freuen uns auf einen spannenden und inspi
 rierenden Abend mit Euch."\n\nVeranstalterinnen:\nBPW Germany Club Köln\n
 \nAnsprechpartnerin:\nNyelete S. Gonçalves Chilenge\, E-Mail: bpw-koeln@w
 eb.de\n\nKosten /Anmeldung:\nMitglieder frei\, Interessentinnen 15 Euro.
LOCATION:Okandada • Köln City\, Hohenzollernring 16-18\, 50672 Köln
GEO:50.937474;6.939882
X-APPLE-STRUCTURED-LOCATION;VALUE=URI;X-ADDRESS=Hohenzollernring 16-18\, K
 öln\, 50672\, Veranstaltungsort\, Deutschland;X-APPLE-RADIUS=100;X-TITLE=
 Okandada • Köln City:geo:50.937474,6.939882
END:VEVENT
BEGIN:VTIMEZONE
TZID:Europe/Berlin
X-LIC-LOCATION:Europe/Berlin
BEGIN:STANDARD
DTSTART:20231029T020000
TZOFFSETFROM:+0200
TZOFFSETTO:+0100
TZNAME:CET
END:STANDARD
END:VTIMEZONE
END:VCALENDAR