BEGIN:VCALENDAR
VERSION:2.0
PRODID:-//wp-events-plugin.com//7.2.3.1//EN
TZID:Europe/Berlin
X-WR-TIMEZONE:Europe/Berlin
BEGIN:VEVENT
UID:54@frauenportal.koeln
DTSTART;TZID=Europe/Berlin:20170112T100000
DTEND;TZID=Europe/Berlin:20170112T123000
DTSTAMP:20170528T150035Z
URL:https://frauenportal.koeln/veranstaltungen/coaching-club-12-januar-201
 7-donnerstag/
SUMMARY:Coaching Club  
DESCRIPTION:\n          \n\nJenison Thomkins zu ihrem Angebot:"Mauerblümch
 en oder Rampensau? Was steckt in dir?Glück ist\, deine eigenen Potentiale
  zu kennen und zu entfalten! Ob Charlie Chaplin oder Nelson Mandela\, sie 
 alle raten deshalb: Zeige dein Licht! Es bringt niemandem etwas\, wenn wir
  unser Licht unter den Scheffel stellen. Das Leben ist zu kostbar und zu k
 urz\, um ein unscheinbares Mauerblümchen zu bleiben. Also lebe\, was an F
 ähigkeiten in dir steckt und es zeige allen! Was uns daran hindert\, sind
  meist nur Glaubenssätze und alte\, überholte Verhaltensmuster. Die kann
  man\, besonders mit NLP\, leicht beheben! An diesem Vormittag zeige ich e
 infache und effektive Tools\, wie Sie sich selbstsicher und souverän prä
 sentieren können – 2017 kann kommen!!"Kostenbeitrag: 15 Euro / 12 Euro 
 für Vereinsmitglieder Weitere Informationen und Anmeldung bis einen Tag v
 orher bei: Jenison Thomkins 
END:VEVENT
BEGIN:VTIMEZONE
TZID:Europe/Berlin
X-LIC-LOCATION:Europe/Berlin
BEGIN:STANDARD
DTSTART:20161030T020000
TZOFFSETFROM:+0200
TZOFFSETTO:+0100
TZNAME:CET
END:STANDARD
END:VTIMEZONE
END:VCALENDAR