BEGIN:VCALENDAR
VERSION:2.0
PRODID:-//wp-events-plugin.com//7.2.3.1//EN
TZID:Europe/Berlin
X-WR-TIMEZONE:Europe/Berlin
BEGIN:VEVENT
UID:1533@frauenportal.koeln
DTSTART;TZID=Europe/Berlin:20190215T100000
DTEND;TZID=Europe/Berlin:20190215T123000
DTSTAMP:20190131T221725Z
URL:https://frauenportal.koeln/veranstaltungen/coaching-club-2-2019-02-15/
SUMMARY:Coaching Club
DESCRIPTION:Bestellungen ans Universum.\n\nJenison Thomkins zu ihrem Angebo
 t:\n\n"Diesmal geht im Coaching-Club es um die richtige Formulierung eines
  heiß ersehnten Zieles und wie du die heißen Wünsche und Herzensziele s
 o verschickst\, dass das Universum sie auch versteht und dir das Gewünsch
 te liefern kann!\nAspekte wie absichtslose Neugier\, innere Erlaubnis und 
 Motivations-Strategie erlebst du in Theorie und Praxis. Mit Jenisons Coach
 ing-Methoden: „Hängemattenmodus“ und „8er Bahn des Lebens“ tauchs
 t du ein die die Funktionsweise des „kosmischen Bestellservices“\, wie
  Bärbel Mohr es nannte :-)"\n\nKostenbeitrag: 15 Euro / 12 Euro für Vere
 insmitglieder von FEMME TOTAL\n\nWeitere Informationen und Anmeldung bis e
 inen Tag vorher bei: Jenison Thomkins
END:VEVENT
BEGIN:VTIMEZONE
TZID:Europe/Berlin
X-LIC-LOCATION:Europe/Berlin
BEGIN:STANDARD
DTSTART:20181028T020000
TZOFFSETFROM:+0200
TZOFFSETTO:+0100
TZNAME:CET
END:STANDARD
END:VTIMEZONE
END:VCALENDAR