BEGIN:VCALENDAR
VERSION:2.0
PRODID:-//wp-events-plugin.com//7.2.3.1//EN
TZID:Europe/Berlin
X-WR-TIMEZONE:Europe/Berlin
BEGIN:VEVENT
UID:1534@frauenportal.koeln
DTSTART;TZID=Europe/Berlin:20190307T100000
DTEND;TZID=Europe/Berlin:20190307T123000
DTSTAMP:20190228T183324Z
URL:https://frauenportal.koeln/veranstaltungen/coaching-club-2-2019-03-07/
SUMMARY:Coaching Club
DESCRIPTION:Ruck zuck gut Draufsein! \n\nJenison Thomkins zu ihrem Angebot:
 \n\n"Wie du mit NLP & Kreativität deine innere Balance schnell wieder her
 stellst: Du lernst eine Fülle von effektiven Methoden\, wie du in Kürze 
 deine Stimmung heben kannst! Du erfährst\, was NLP ist\, was es kann\, wa
 rum du es kennenlernen solltest! Lass dich überraschen\, wie einfach\, sc
 hnell und wirksam du dich von drückenden Emotionen wie mit einem Fingersc
 hnipsen befreien kannst!"\n\nKostenbeitrag: 15 Euro / 12 Euro für Vereins
 mitglieder von FEMME TOTAL\n\nWeitere Informationen und Anmeldung bis eine
 n Tag vorher bei: Jenison Thomkins
END:VEVENT
BEGIN:VTIMEZONE
TZID:Europe/Berlin
X-LIC-LOCATION:Europe/Berlin
BEGIN:STANDARD
DTSTART:20181028T020000
TZOFFSETFROM:+0200
TZOFFSETTO:+0100
TZNAME:CET
END:STANDARD
END:VTIMEZONE
END:VCALENDAR