BEGIN:VCALENDAR
VERSION:2.0
PRODID:-//wp-events-plugin.com//7.2.3.1//EN
TZID:Europe/Berlin
X-WR-TIMEZONE:Europe/Berlin
BEGIN:VEVENT
UID:1536@frauenportal.koeln
DTSTART;TZID=Europe/Berlin:20190509T100000
DTEND;TZID=Europe/Berlin:20190509T123000
DTSTAMP:20190430T135720Z
URL:https://frauenportal.koeln/veranstaltungen/coaching-club-2-2019-05-09/
SUMMARY:Coaching Club
DESCRIPTION:Jenison Thomkins zu ihrem Angebot:\n\n"Yes I can! – Wie du di
 ch selbst motivierst.\n\nWie kannst du dich motivieren\, deine Projekte ta
 tkräftig anzugehen? Welche Ressourcen benötigst du dazu? Wie überwindes
 t du deinen inneren Schweinehund? Und welche Hindernisse musst du noch bes
 eitigen? Mithilfe der 'bipolaren Motivations-Strategie' kommst du in Fahrt
  und bleibst auf der richtigen Spur."\n\nKostenbeitrag: 15 Euro / 12 Euro 
 für Vereinsmitglieder von FEMME TOTAL\n\nWeitere Informationen und Anmeld
 ung bis einen Tag vorher bei: Jenison Thomkins
END:VEVENT
BEGIN:VTIMEZONE
TZID:Europe/Berlin
X-LIC-LOCATION:Europe/Berlin
BEGIN:DAYLIGHT
DTSTART:20190331T030000
TZOFFSETFROM:+0100
TZOFFSETTO:+0200
TZNAME:CEST
END:DAYLIGHT
END:VTIMEZONE
END:VCALENDAR