BEGIN:VCALENDAR
VERSION:2.0
PRODID:-//wp-events-plugin.com//7.2.3.1//EN
TZID:Europe/Berlin
X-WR-TIMEZONE:Europe/Berlin
BEGIN:VEVENT
UID:1539@frauenportal.koeln
DTSTART;TZID=Europe/Berlin:20190808T100000
DTEND;TZID=Europe/Berlin:20190808T123000
DTSTAMP:20190731T174158Z
URL:https://frauenportal.koeln/veranstaltungen/coaching-club-2-2019-08-08/
SUMMARY:Coaching Club
DESCRIPTION:Jenison Thomkins zu ihrem Angebot:\n\n"Wer bist du im Spiegel d
 er 4D-Typologie?\n\nAls 'kleines Kind'\, 'Besserwisser'\, 'aggressiver Ein
 schüchterer' oder als ein 'Rückzieher'? Was kennzeichnet dein Verhalten 
 und wie kannst du es bei Bedarf ändern? Das erkennst und erlebst du spiel
 erisch-kreativ und fachlich kompetent im Coaching-Club. Dieses wertvolle W
 issen kannst du nutzen\, um dich\, deine Familie\, Partnerschaft und beruf
 liche Konflikte besser zu verstehen und Konflikte zu meistern!"\n\nKostenb
 eitrag: 15 Euro / 12 Euro für Vereinsmitglieder von FEMME TOTAL\n\nWeiter
 e Informationen und Anmeldung bis einen Tag vorher bei: Jenison Thomkins
END:VEVENT
BEGIN:VTIMEZONE
TZID:Europe/Berlin
X-LIC-LOCATION:Europe/Berlin
BEGIN:DAYLIGHT
DTSTART:20190331T030000
TZOFFSETFROM:+0100
TZOFFSETTO:+0200
TZNAME:CEST
END:DAYLIGHT
END:VTIMEZONE
END:VCALENDAR