BEGIN:VCALENDAR
VERSION:2.0
PRODID:-//wp-events-plugin.com//7.2.3.1//EN
TZID:Europe/Berlin
X-WR-TIMEZONE:Europe/Berlin
BEGIN:VEVENT
UID:1540@frauenportal.koeln
DTSTART;TZID=Europe/Berlin:20190926T100000
DTEND;TZID=Europe/Berlin:20190926T123000
DTSTAMP:20190830T175751Z
URL:https://frauenportal.koeln/veranstaltungen/coaching-club-2-2019-09-26/
SUMMARY:Coaching Club
DESCRIPTION:Jenison Thomkins zu ihrem Angebot:\n\n"Wie du dich von Sorgen u
 nd Schuld befreist.\nSelten waren sich alle Teilnehmer*Innen der Future To
 ols Fortbildung vom DVNLP so einig: Der Wholeness Process von Connirae And
 reas\, einer NLP´lerin der ersten Stunde\, hat uns alle begeistert! Statt
  langwierig nach Ursachen in der Vergangenheit zu forschen und möglicherw
 eise dadurch retraumatisiert zu werden\, bietet diese Arbeit eine faszinie
 rend einfache Methode\, um dich von Sorgen und Schuld zu befreien. In Form
  einer tiefen\, hypnotischen Seelenreise erlebst du eine unfassbare innere
  Ruhe und Gelassenheit gegenüber tiefen Kränkungen und Blockaden.  Spann
 end und erweiternd für alle AnwenderInnen des Core Transformation Process
 es\, den Connirae schon vor langer Zeit erfunden hat!"\n\nKostenbeitrag: 1
 5 Euro / 12 Euro für Vereinsmitglieder von FEMME TOTAL\n\nWeitere Informa
 tionen und Anmeldung bis einen Tag vorher bei: Jenison Thomkins
END:VEVENT
BEGIN:VTIMEZONE
TZID:Europe/Berlin
X-LIC-LOCATION:Europe/Berlin
BEGIN:DAYLIGHT
DTSTART:20190331T030000
TZOFFSETFROM:+0100
TZOFFSETTO:+0200
TZNAME:CEST
END:DAYLIGHT
END:VTIMEZONE
END:VCALENDAR