BEGIN:VCALENDAR
VERSION:2.0
PRODID:-//wp-events-plugin.com//7.2.3.1//EN
TZID:Europe/Berlin
X-WR-TIMEZONE:Europe/Berlin
BEGIN:VEVENT
UID:790@frauenportal.koeln
DTSTART;TZID=Europe/Berlin:20180111T100000
DTEND;TZID=Europe/Berlin:20180111T123000
DTSTAMP:20171229T160755Z
URL:https://frauenportal.koeln/veranstaltungen/coaching-club-2018-01-11/
SUMMARY:Coaching Club
DESCRIPTION:Jenison Thomkins zu ihrem Angebot:\n\n"Mauerblümchen oder Ramp
 ensau? Gerade jetzt\, am Anfang des Jahres\, ist es wichtig\, eine klare R
 ichtung einzuschlagen. Wie will ich mich zeigen? Was ist mein USP? Womit f
 ühle ich mich wohl? Glück ist\, deine eigenen Potentiale zu kennen und z
 u entfalten! Zu leben\, was an Fähigkeiten in dir steckt und deine Früch
 te in die Welt hinaus zu tragen. Ob Charlie Chaplin oder Nelson Mandela\, 
 sie alle raten: Zeige dein Licht! Das Leben ist zu kostbar und zu kurz\, u
 m ein unscheinbares Mauerblümchen zu bleiben. Zeig dich! Trau dich! Und g
 enieße es\, im Rampenlicht deines eigenen kraftvollen Charismas zu stehen
 ."\n\nKostenbeitrag: 15 Euro / 12 Euro für Vereinsmitglieder von FEMME TO
 TAL\n\nWeitere Informationen und Anmeldung bis einen Tag vorher bei: Jeni
 son Thomkins
END:VEVENT
BEGIN:VTIMEZONE
TZID:Europe/Berlin
X-LIC-LOCATION:Europe/Berlin
BEGIN:STANDARD
DTSTART:20171029T020000
TZOFFSETFROM:+0200
TZOFFSETTO:+0100
TZNAME:CET
END:STANDARD
END:VTIMEZONE
END:VCALENDAR