BEGIN:VCALENDAR
VERSION:2.0
PRODID:-//wp-events-plugin.com//7.2.3.1//EN
TZID:Europe/Berlin
X-WR-TIMEZONE:Europe/Berlin
BEGIN:VEVENT
UID:791@frauenportal.koeln
DTSTART;TZID=Europe/Berlin:20180201T100000
DTEND;TZID=Europe/Berlin:20180201T123000
DTSTAMP:20180201T171741Z
URL:https://frauenportal.koeln/veranstaltungen/coaching-club-2018-02-01/
SUMMARY:Coaching Club
DESCRIPTION:Jenison Thomkins zu ihrem Angebot:\n\n"Diesmal geht es um die p
 räzise Zielformulierung eines heißersehnten Zieles und wie man die heiß
 en Wünsche und Herzensziele so verschickt\, dass das Universum sie auch r
 ichtig versteht und das Gewünschte liefern kann! Themen wie absichtslose 
 Neugier\, innere Erlaubnis und Motivations-Strategie erlebst du in Theorie
  und Praxis mit Jenisons Methoden: 'Hängemattenmodus' und '8er Bahn des L
 ebens' ?"\n\nKostenbeitrag: 15 Euro / 12 Euro für Vereinsmitglieder von F
 EMME TOTAL\n\nWeitere Informationen und Anmeldung bis einen Tag vorher bei
 : Jenison Thomkins
END:VEVENT
BEGIN:VTIMEZONE
TZID:Europe/Berlin
X-LIC-LOCATION:Europe/Berlin
BEGIN:STANDARD
DTSTART:20171029T020000
TZOFFSETFROM:+0200
TZOFFSETTO:+0100
TZNAME:CET
END:STANDARD
END:VTIMEZONE
END:VCALENDAR