BEGIN:VCALENDAR
VERSION:2.0
PRODID:-//wp-events-plugin.com//7.2.3.1//EN
TZID:Europe/Berlin
X-WR-TIMEZONE:Europe/Berlin
BEGIN:VEVENT
UID:792@frauenportal.koeln
DTSTART;TZID=Europe/Berlin:20180301T100000
DTEND;TZID=Europe/Berlin:20180301T123000
DTSTAMP:20180301T170819Z
URL:https://frauenportal.koeln/veranstaltungen/coaching-club-2018-03-01/
SUMMARY:Coaching Club
DESCRIPTION:Jenison Thomkins zu ihrem Angebot:\n\n"Ruck zuck gut Draufsein!
  Wie du mit NLP &amp\; Kreativität deine innere Balance schnell wieder he
 rstellst: Du lernst eine Fülle von effektiven Methoden kennen\, wie du in
  Kürze deine Stimmung heben kannst! Du erfährst\, was NLP ist\, was es k
 ann\, warum du es kennenlernen solltest! Lass dich überraschen\, wie einf
 ach\, schnell und wirksam du dich von drückenden Emotionen wie mit einem 
 Fingerschnipsen befreien kannst!"\n\nKostenbeitrag: 15 Euro / 12 Euro für
  Vereinsmitglieder von FEMME TOTAL\n\nWeitere Informationen und Anmeldung 
 bis einen Tag vorher bei: Jenison Thomkins
END:VEVENT
BEGIN:VTIMEZONE
TZID:Europe/Berlin
X-LIC-LOCATION:Europe/Berlin
BEGIN:STANDARD
DTSTART:20171029T020000
TZOFFSETFROM:+0200
TZOFFSETTO:+0100
TZNAME:CET
END:STANDARD
END:VTIMEZONE
END:VCALENDAR