BEGIN:VCALENDAR
VERSION:2.0
PRODID:-//wp-events-plugin.com//7.2.3.1//EN
TZID:Europe/Berlin
X-WR-TIMEZONE:Europe/Berlin
BEGIN:VEVENT
UID:793@frauenportal.koeln
DTSTART;TZID=Europe/Berlin:20180419T100000
DTEND;TZID=Europe/Berlin:20180419T123000
DTSTAMP:20180331T151703Z
URL:https://frauenportal.koeln/veranstaltungen/coaching-club-2018-04-19/
SUMMARY:Coaching Club
DESCRIPTION:Jenison Thomkins zu ihrem Angebot:\n\n"Wie du mit Humor besser 
 zum Ziel kommst! – Über sich selbst zu lachen setzt einen befreienden E
 ntwicklungsschub in Gang\, der zu Leichtigkeit führt. Es ist wie eine Off
 enbarung\, besonders für 'brave Töchter' sehr zu empfehlen! Verfahrene S
 ituationen und eingefleischte Glaubenssätze verschwinden wie weggeblasen.
  Das ist der äußerst wirksame und urkomische\, provokative Ansatz von Th
 erapeut Frank Farelli. Was provokativer Stil im Coaching und in der Beratu
 ng ist\, und wie man ihn in unterschiedlichen Situationen für sich nutzen
  kann\, lernst du an diesem Vormittag! Häufig glauben wir\, dass Probleme
  eine ernste Angelegenheit sind und gehen sie mit Leichenbittermiene an. G
 enau das Gegenteil ist aber oft die Lösung. 'DTT - Drop that thought' sag
 t der Dalai Lama. Oder eben: lach dich frei:-)"\n\nKostenbeitrag: 15 Euro 
 / 12 Euro für Vereinsmitglieder von FEMME TOTAL\n\nWeitere Informationen 
 und Anmeldung bis einen Tag vorher bei: Jenison Thomkins
END:VEVENT
BEGIN:VTIMEZONE
TZID:Europe/Berlin
X-LIC-LOCATION:Europe/Berlin
BEGIN:DAYLIGHT
DTSTART:20180325T030000
TZOFFSETFROM:+0100
TZOFFSETTO:+0200
TZNAME:CEST
END:DAYLIGHT
END:VTIMEZONE
END:VCALENDAR