BEGIN:VCALENDAR
VERSION:2.0
PRODID:-//wp-events-plugin.com//7.2.3.1//EN
TZID:Europe/Berlin
X-WR-TIMEZONE:Europe/Berlin
BEGIN:VEVENT
UID:794@frauenportal.koeln
DTSTART;TZID=Europe/Berlin:20180503T100000
DTEND;TZID=Europe/Berlin:20180503T123000
DTSTAMP:20180501T000047Z
URL:https://frauenportal.koeln/veranstaltungen/coaching-club-2018-05-3/
SUMMARY:Coaching Club
DESCRIPTION:Jenison Thomkins zu ihrem Angebot:\n\n"Yes I can! – Wie du di
 ch selbst motivierst!\n\nNull Energie trotz Bock? Manchmal erreichen wir e
 in wichtiges Ziel einfach nicht\, so sehr wir es auch wollen. Wie kannst d
 u dich motivieren\, deine Projekte tatkräftig anzugehen? Welche Ressource
 n benötigst du dazu? Wie überwindest du deinen inneren Schweinehund? Und
  welche Hindernisse musst du noch beseitigen? Mithilfe der 'vierpoligen Mo
 tivations-Strategie' zeige ich dir\, wie du in Fahrt kommst und auf der ri
 chtigen Spur bleibst."\n\nKostenbeitrag: 15 Euro / 12 Euro für Vereinsmit
 glieder von FEMME TOTAL\n\nWeitere Informationen und Anmeldung bis einen T
 ag vorher bei: Jenison Thomkins
END:VEVENT
BEGIN:VTIMEZONE
TZID:Europe/Berlin
X-LIC-LOCATION:Europe/Berlin
BEGIN:DAYLIGHT
DTSTART:20180325T030000
TZOFFSETFROM:+0100
TZOFFSETTO:+0200
TZNAME:CEST
END:DAYLIGHT
END:VTIMEZONE
END:VCALENDAR